BEGIN:VCALENDAR
VERSION:2.0
PRODID:-//ChamberMaster//Event Calendar 2.0//EN
METHOD:PUBLISH
X-PUBLISHED-TTL:P3D
REFRESH-INTERVAL:P3D
CALSCALE:GREGORIAN
BEGIN:VEVENT
DTSTART:20061214T170000Z
DTEND:20061214T170000Z
X-MICROSOFT-CDO-ALLDAYEVENT:FALSE
SUMMARY:NO MEETING - Charitable Foundation Committee Meeting - 12/14/2006
DESCRIPTION:No meeting in December Please join us for our first meeting of the New Year on January 11\, 2007
X-ALT-DESC;FMTTYPE=text/html:<p>No meeting in December</p> <p>Please join us for our first meeting of the New Year on January 11\, 2007</p>
LOCATION:\, NJ
UID:e.9292.1513
SEQUENCE:3
DTSTAMP:20260422T023754Z
URL:https://members.blsj.com/events/details/no-meeting-charitable-foundation-committee-meeting-12-14-2006-12-14-2006-1513
END:VEVENT

END:VCALENDAR
