BEGIN:VCALENDAR
VERSION:2.0
PRODID:-//ChamberMaster//Event Calendar 2.0//EN
METHOD:PUBLISH
X-PUBLISHED-TTL:P3D
REFRESH-INTERVAL:P3D
CALSCALE:GREGORIAN
BEGIN:VEVENT
DTSTART:20070208T170000Z
DTEND:20070208T170000Z
X-MICROSOFT-CDO-ALLDAYEVENT:FALSE
SUMMARY:No Meeting - Charitable Foundation Committee Meeting - 02/08/2007
DESCRIPTION:Next Meeting - - March 8\, 2007
X-ALT-DESC;FMTTYPE=text/html:Next Meeting - - March 8\, 2007
LOCATION:\, NJ
UID:e.9292.1040
SEQUENCE:3
DTSTAMP:20260422T053529Z
URL:https://members.blsj.com/events/details/no-meeting-charitable-foundation-committee-meeting-02-08-2007-02-08-2007-1040
END:VEVENT

END:VCALENDAR
