BEGIN:VCALENDAR
VERSION:2.0
PRODID:-//ChamberMaster//Event Calendar 2.0//EN
METHOD:PUBLISH
X-PUBLISHED-TTL:P3D
REFRESH-INTERVAL:P3D
CALSCALE:GREGORIAN
BEGIN:VEVENT
DTSTART:20050414T220000Z
DTEND:20050414T220000Z
X-MICROSOFT-CDO-ALLDAYEVENT:FALSE
SUMMARY:No-Burn Products Seminar - Canceled
DESCRIPTION:No-Burn is a fire retardant and mold inhibitor that is applied to the raw wood of a structure at the dry-in stage of construction. The No-Burn products are non-toxic\, non-carcinogenic\, UL \, ULC\, and NFPA listed. This is a product that is new to the South Jersey area. The life saving potential of No-Burn is a reality due to the ability of the product to slow the rate of burn during a fire or totally extinguish the flames. This will also benefit firefighters having to deal with the possibility of structural collapse. This product will be of interest to each and every builder once they are aware of the product potential.
X-ALT-DESC;FMTTYPE=text/html:No-Burn is a fire retardant and mold inhibitor that is applied to the raw wood of a structure at the dry-in stage of construction. The No-Burn products are non-toxic\, non-carcinogenic\, UL \, ULC\, and NFPA listed. This is a product that is new to the South Jersey area. The life saving potential of No-Burn is a reality due to the ability of the product to slow the rate of burn during a fire or totally extinguish the flames. This will also benefit firefighters having to deal with the possibility of structural collapse. This product will be of interest to each and every builder once they are aware of the product potential.
LOCATION:Builders League Cherry Hill\, NJ 08034
UID:e.9292.530
SEQUENCE:3
DTSTAMP:20260420T233648Z
URL:https://members.blsj.com/events/details/no-burn-products-seminar-canceled-04-14-2005-530
END:VEVENT

END:VCALENDAR
