BEGIN:VCALENDAR
VERSION:2.0
PRODID:-//ChamberMaster//Event Calendar 2.0//EN
METHOD:PUBLISH
X-PUBLISHED-TTL:P3D
REFRESH-INTERVAL:P3D
CALSCALE:GREGORIAN
BEGIN:VEVENT
DTSTART:20070117T230000Z
DTEND:20070117T230000Z
X-MICROSOFT-CDO-ALLDAYEVENT:FALSE
SUMMARY:NICKI JOY PRESENTS AT OUR JANUARY GENERAL MEMBERSHIP MEETING
DESCRIPTION:START THE NEW YEAR OFF RIGHT - WITH A POWERHOUSE PRESENTATION FROM NICKI JOY!\n \n 30 Sales And Marketing Tips to Stay HOT  When The Market Has Cooled Down\n \n  Bring your spouses\, significant others\, business associates\, or friends.  \n It will be fun\, thought-provoking\, substantive and inspiring\n \n Nicki Joy believes everyone is in sales and that laughter makes learning about sales easier.  Since 1971\, Nicki Joy & Associates\, Inc. has provided sales professionals and their companies with insight\, information\, and a new motivating perspective that enables them to better gain and maintain a highly profitable customer base.  Nicki's seminars are information packed\, reality based\, motivationally dynamic\, and down right funny.  Her programs have achieved international recognition in all industries where fine-tuned selling skills are needed\, relating to the buyer is required\, self-marketing is a must\, and \n top-notch service is expected.\n \n Nicki's vibrant\, energetic personal style has been overwhelmingly well received by clients such as: Wells Fargo\, Walt Disney Imagineering\, Exxon\, The Rouse Company\, Chase Bank\, Prudential\, Centex Homes\, Del Webb Corporation\, Wampler Foods\, Control Data\, Stewart Title\, Georgia State University\, Smith Barney\, The Illinois Press\, Norwest Mortgage and the list goes on.    Good times have bred bad habits and good markets can cover up a lot of bad things.  In this session Nicki will provide a check up for you and your company\, to make certain that you are doing what it takes today\, right now to  keep the good times rolling.     With her specialty topics including sales\, motivation\, communication\, customer service\, leadership\, and self-marketing\, Nicki uses her background in teaching and theater to bring her audiences that amazing blend of information and inspiration.  Her funny\, uplifting approach is guaranteed to help audiences achieve professional as well as personal happiness\, success\, and prosperity.
X-ALT-DESC;FMTTYPE=text/html:<p align="center"><font color="#ff0000"><strong>START THE NEW YEAR OFF RIGHT - WITH A POWERHOUSE PRESENTATION FROM NICKI JOY!<br /> </strong></font><br /> <font color="#ff0000" style="font-size: 14px\;"><font color="#ff0000" style="font-size: 14px\;"><strong><font color="#ff0000"><span style="font-size: 14pt\; font-family: Tahoma\;"><u>30 Sales And Marketing Tips to Stay <em>HOT</em><span style="">&nbsp\; </span>When The Market Has Cooled Down</u></span><br /> </font></strong></font></font><br /> <font size="2">&nbsp\;<font style="font-size: 14px\;"><strong>Bring&nbsp\;your spouses\, significant others\, business associates\, or friends.&nbsp\;&nbsp\;<br /> It will be fun\, thought-provoking\, substantive and inspiring<br /> </strong><br /> <span style="color: rgb(102\, 0\, 204)\; font-family: Verdana\;">Nicki Joy believes <em>everyone</em> is in sales&hellip\;and that laughter makes learning about sales easier.&nbsp\; Since 1971\, Nicki Joy &amp\; Associates\, Inc.&nbsp\;has provided sales professionals and their companies with insight\, information\, and a new motivating perspective that enables them to better gain and maintain a highly profitable customer base.&nbsp\; Nicki&rsquo\;s seminars are information packed\, reality based\, motivationally dynamic\, and down right funny.&nbsp\; Her programs have achieved international recognition in all industries where fine-tuned selling skills are needed\, relating to the buyer is required\, self-marketing is a must\, and&nbsp\;<br /> top-notch service is expected.<br /> <br /> <span style="color: rgb(102\, 0\, 204)\; font-family: Verdana\;">Nicki&rsquo\;s vibrant\, energetic personal style has been overwhelmingly well received by clients such as: Wells Fargo\, Walt Disney Imagineering\, Exxon\, The Rouse Company\, Chase Bank\, Prudential\, Centex Homes\, Del Webb Corporation\, Wampler Foods\, Control Data\, Stewart Title\, Georgia State University\, Smith Barney\, The Illinois Press\, Norwest Mortgage&hellip\;and the list goes on.</span></span></font></font></p> <p style="margin: 0in 0in 0pt\;" class="MsoNormal"><span style="font-family: Tahoma\;"><o:p><font size="5" color="#000000"><strong>&nbsp\;</strong></font></o:p></span></p> <span style="font-family: Tahoma\;"><font size="5"><font color="#000000"><font face="Verdana"><span style="font-family: Tahoma\;"><font size="5"><font color="#000000"><font face="Verdana"><font style="font-size: 12px\;"> <p style="margin: 0in 0in 0pt\;" class="MsoNormal"><span style="font-family: Tahoma\;"><font size="5"><font color="#000000"><font face="Verdana">Good times have bred bad habits and good markets can cover up a lot of bad things.<span style="">&nbsp\; </span>In this session Nicki will provide a check up for you and your company\, to make certain that you are doing what it takes today\, right now&hellip\;to<span style="">&nbsp\; </span>keep the good times rolling. <o:p></o:p></font></font></font></span></p> <p align="center" style="margin: 0in 0in 0pt\;" class="MsoNormal">&nbsp\;</p> <span style="color: rgb(102\, 0\, 204)\; font-family: Verdana\;"><font style="font-size: 14px\;"> <p><span style="color: rgb(102\, 0\, 204)\; font-family: Verdana\;">With her specialty topics including sales\, motivation\, communication\, customer service\, leadership\, and self-marketing\, Nicki uses her background in teaching and theater to bring her audiences that amazing blend of information and inspiration.&nbsp\; Her funny\, uplifting approach is guaranteed to help audiences achieve professional as well as personal happiness\, success\, and prosperity.<br /> </span></p> </font></span></font></font></font></font></span><span style="font-family: Tahoma\;"><o:p><font size="5" color="#000000">&nbsp\;</font></o:p></span></font></font></font></span><span style="font-family: Tahoma\;"><o:p><font size="5" color="#000000"><strong>&nbsp\;</strong></font></o:p></span>
LOCATION:Mt. Laurel Marriott 915 Route 73 Mt. Laurel\, NJ 08054
UID:e.9292.1031
SEQUENCE:3
DTSTAMP:20260422T040227Z
URL:https://members.blsj.com/events/details/nicki-joy-presents-at-our-january-general-membership-meeting-01-17-2007-1031
END:VEVENT

END:VCALENDAR
