BEGIN:VCALENDAR
VERSION:2.0
PRODID:-//ChamberMaster//Event Calendar 2.0//EN
METHOD:PUBLISH
X-PUBLISHED-TTL:P3D
REFRESH-INTERVAL:P3D
CALSCALE:GREGORIAN
BEGIN:VEVENT
DTSTART:20050426T160000Z
DTEND:20050426T160000Z
X-MICROSOFT-CDO-ALLDAYEVENT:FALSE
SUMMARY:NHQ CERTIFIED TRADE CONTRACTOR PROGRAM - Afternoon Session - 04/26/2005
DESCRIPTION:The Training component includes approximately 16 hours of interactive instruction for two to four employees from your company. The instruction focuses on providing participants with the understanding\, tools\, assistance\, and support needed to develop your company's Quality Assurance System. At the end of the Certified Trade Contractor training\, your company will have its own customized Quality Assurance System tailored to meet the unique needs of your company.  Every training session relies not only on group instruction by the trainer\, but also on interactive workshops within each session to create a customized Quality Assurance System and manual for each company.  Your company will be ready for an independent third-party audit and Certification about three to six months after you begin implementation of your Quality Assurance System.   Program experience shows that trade contractors that implement the NAHB Research Center's Certified Trade Contractor Program show improved profitability\; reduced defects\; elimination of recurring punch list items\; and improved builder satisfaction with the quality of their work. Certified trade contractors distinguish themselves with their builder customers.  Designed around the internationally-recognized quality principles of ISO 9000\, but adapted for the real-world of home building\, the Certified Trade Contractor Program uses a four-step approach- Plan\, Do\, Check\, Act-to assure quality in a contractor's operations.   Trade contractors determine the results their customers expect\, and then develop and implement a Quality Assurance plan to meet those expectations.
X-ALT-DESC;FMTTYPE=text/html:The Training component includes approximately 16 hours of interactive instruction for two to four employees from your company. The instruction focuses on providing participants with the understanding\, tools\, assistance\, and support needed to develop your company's Quality Assurance System. At the end of the Certified Trade Contractor training\, your company will have its own customized Quality Assurance System tailored to meet the unique needs of your company.  Every training session relies not only on group instruction by the trainer\, but also on interactive workshops within each session to create a customized Quality Assurance System and manual for each company.  Your company will be ready for an independent third-party audit and Certification about three to six months after you begin implementation of your Quality Assurance System.   Program experience shows that trade contractors that implement the NAHB Research Center's Certified Trade Contractor Program show improved profitability\; reduced defects\; elimination of recurring punch list items\; and improved builder satisfaction with the quality of their work. Certified trade contractors distinguish themselves with their builder customers.  Designed around the internationally-recognized quality principles of ISO 9000\, but adapted for the real-world of home building\, the Certified Trade Contractor Program uses a four-step approach- Plan\, Do\, Check\, Act-to assure quality in a contractor's operations.   Trade contractors determine the results their customers expect\, and then develop and implement a Quality Assurance plan to meet those expectations.  
LOCATION:Builders League of South Jersey 114 Haddontowne Ct Cherry Hill\, NJ 08034
UID:e.9292.1510
SEQUENCE:3
DTSTAMP:20260420T233805Z
URL:https://members.blsj.com/events/details/nhq-certified-trade-contractor-program-afternoon-session-04-26-2005-04-26-2005-1510
END:VEVENT

END:VCALENDAR
