BEGIN:VCALENDAR
VERSION:2.0
PRODID:-//ChamberMaster//Event Calendar 2.0//EN
METHOD:PUBLISH
X-PUBLISHED-TTL:P3D
REFRESH-INTERVAL:P3D
CALSCALE:GREGORIAN
BEGIN:VEVENT
DTSTART:20061027T220000Z
DTEND:20061027T160000Z
X-MICROSOFT-CDO-ALLDAYEVENT:FALSE
SUMMARY:New Member Orientation & Association Maximization - 10/27/2006
DESCRIPTION:~ASSOCIATION MAXIMIZATION~ THIS IS AN EVENT YOU DON'T WANT TO MISS\n  "How to Network & Build Your Business Through the Builders League" & New Member Orientation \n \n Meet our officers\, committee chairs & staff\, learn about the benefits of membership\, committee involvement & much much more! \n Learn the Following Tips for Cultivating Successful Business Relationships \n Maximizing Your Membership /How to Increase Your Business It's Not Always What You Know - \n But Who You Know for Those Important Introductions How to Get a Jump-start on Networking (this meeting /seminar is a good start) \n The In's & Out's of the Association How to Effectively Make Those Important Contacts \n Who Should Attend: New Members\, Old Members\, Curious Members Anyone Who Wants to Master the Secrets of Networking Within the Builders Association \n Reason to Attend: To Get the Most From Your Membership \n \n Moderator: Michael Kurpiel Marketing Manager\, Strober Building Supply Past Associate VP\, New Jersey Builders Association VP Associate Affairs Builders League of South Jersey \n \n RSVP by Monday October 23rd  \n To RSVP: please complete and fax\, mail or email the registration form.
X-ALT-DESC;FMTTYPE=text/html:<p align="center"><font color="#ff0000"><strong>~ASSOCIATION MAXIMIZATION~ THIS IS AN EVENT YOU DON&rsquo\;T WANT TO MISS<br /> </strong></font><font color="#0000ff"><strong>&nbsp\;&quot\;How to Network &amp\; Build Your Business Through the Builders League&quot\; &amp\; New Member Orientation</strong></font>&nbsp\;<br /> <br /> Meet our officers\, committee chairs &amp\; staff\, learn about the benefits of membership\, committee involvement &amp\; much much more!&nbsp\;<br /> Learn the Following Tips for Cultivating Successful Business Relationships&nbsp\;<br /> Maximizing Your Membership /How to Increase Your Business It&rsquo\;s Not Always What You Know -&nbsp\;<br /> But Who You Know for Those Important Introductions How to Get a Jump-start on Networking (this meeting /seminar is a good start)&nbsp\;<br /> The In&rsquo\;s &amp\; Out&rsquo\;s of the Association How to Effectively Make Those Important Contacts&nbsp\;<br /> <font color="#ff0000">Who Should Attend:</font> New Members\, Old Members\, Curious Members Anyone Who Wants to Master the Secrets of Networking Within the Builders Association&nbsp\;<br /> <font color="#ff0000">Reason to Attend:</font> To Get the Most From Your Membership&nbsp\;<br /> <br /> <font color="#ff0000">Moderator:</font> Michael Kurpiel Marketing Manager\, Strober Building Supply Past Associate VP\, New Jersey Builders Association VP Associate Affairs Builders League of South Jersey&nbsp\;<br /> <br /> RSVP by&nbsp\;Monday&nbsp\;October 23rd&nbsp\;&nbsp\;<br /> To RSVP: please complete and fax\, mail or email the registration form. </p>
LOCATION:Builders League of South Jersey 114 Haddontowne Ct Cherry Hill\, NJ 08034
UID:e.9292.1508
SEQUENCE:3
DTSTAMP:20260421T235449Z
URL:https://members.blsj.com/events/details/new-member-orientation-association-maximization-10-27-2006-10-27-2006-1508
END:VEVENT

END:VCALENDAR
