BEGIN:VCALENDAR
VERSION:2.0
PRODID:-//ChamberMaster//Event Calendar 2.0//EN
METHOD:PUBLISH
X-PUBLISHED-TTL:P3D
REFRESH-INTERVAL:P3D
CALSCALE:GREGORIAN
BEGIN:VEVENT
DTSTART:20060614T160000Z
DTEND:20060614T160000Z
X-MICROSOFT-CDO-ALLDAYEVENT:FALSE
SUMMARY:New Member Orientation & Association Maximization - 06/14/2006
DESCRIPTION:~ASSOCIATION MAXIMIZATION~                                 THIS IS AN EVENT YOU DON'T WANT TO MISS                   "How to Network & Build Your Business Through the Builders League"                                                     &                                          New Member Orientation         Meet our officers\, committee chairs & staff\, learn about the benefits of membership\,                               committee involvement & much much more!  Learn the Following Tips for Cultivating Successful Business Relationships  Maximizing Your Membership /How to Increase Your Business It's Not Always What You Know - But Who You Know for Those Important Introductions How to Get a Jump-start on Networking (this meeting /seminar is a good start) The In's & Out's of the Association How to Effectively Make Those Important Contacts  Who Should Attend: New Members\, Old Members\, Curious Members Anyone Who Wants to Master the Secrets of Networking  Within the Builders Association  Reason to Attend: To Get the Most From Your Membership   Moderator: Michael Kurpiel Marketing Manager\, Strober Building Supply Past Associate VP\, New Jersey Builders Association VP Associate Affairs Builders League of South Jersey   RSVP by Friday\, June 9th To RSVP:  please complete and fax\, mail or email the registration form.
X-ALT-DESC;FMTTYPE=text/html:                                    ~ASSOCIATION MAXIMIZATION~                                 THIS IS AN EVENT YOU DON'T WANT TO MISS                   "How to Network & Build Your Business Through the Builders League"                                                     &                                          New Member Orientation         Meet our officers\, committee chairs & staff\, learn about the benefits of membership\,                               committee involvement & much much more!  Learn the Following Tips for Cultivating Successful Business Relationships  Maximizing Your Membership /How to Increase Your Business It's Not Always What You Know - But Who You Know for Those Important Introductions How to Get a Jump-start on Networking (this meeting /seminar is a good start) The In's & Out's of the Association How to Effectively Make Those Important Contacts  Who Should Attend: New Members\, Old Members\, Curious Members Anyone Who Wants to Master the Secrets of Networking  Within the Builders Association  Reason to Attend: To Get the Most From Your Membership   Moderator: Michael Kurpiel Marketing Manager\, Strober Building Supply Past Associate VP\, New Jersey Builders Association VP Associate Affairs Builders League of South Jersey   RSVP by Friday\, June 9th To RSVP:  please complete and fax\, mail or email the registration form.  
LOCATION:Builders League Office Cherry Hill\, NJ 08034
UID:e.9292.1160
SEQUENCE:3
DTSTAMP:20260421T183655Z
URL:https://members.blsj.com/events/details/new-member-orientation-association-maximization-06-14-2006-06-14-2006-1160
END:VEVENT

END:VCALENDAR
