BEGIN:VCALENDAR
VERSION:2.0
PRODID:-//ChamberMaster//Event Calendar 2.0//EN
METHOD:PUBLISH
X-PUBLISHED-TTL:P3D
REFRESH-INTERVAL:P3D
CALSCALE:GREGORIAN
BEGIN:VEVENT
DTSTART:20100319T160000Z
DTEND:20100319T160000Z
X-MICROSOFT-CDO-ALLDAYEVENT:FALSE
SUMMARY:NEW MEMBER BREAKFAST RECEPTION & ASSOCIATION MAXIMIZATION
DESCRIPTION:New Member & Old Members\n Breakfast Reception & Association Maximization\n \n COST: Complimentary Registration  \n BLSJ Exec. Committee\; Board of Directors\; Committee Chairs/Vice Chairs\; \n New company contacts etc.\n \n \n Moderator:\n ROBERT CAIN\, CGA\n Product Director - Mark Systems\, USA Get candid advice on maximizing your membership in the Builders Association & the Association's Networking opportunities. Learn about the issues that are facing our industry and state of New Jersey.\n \n 1.  Marketing yourself 2. Membership benefits 3. Relationship Marketing 4. What's in it for you? Also\, you will get the opportunity to meet the League's officers\, board of directors\, committee chairs\, \n other new members & staff during our brief orientation. Find out how the Builders League operates and functions to serve the membership\, P.S. This is a fabulous NETWORKING FUNCTION Begin today to prepare for successful encounters\, build lasting\, mutually beneficial relationships\n and broaden your account base through the Builders Association! This is a reception you don't want to miss!
X-ALT-DESC;FMTTYPE=text/html:<p><span style="font-size: medium"><span style="color: #ff0000"><span>New Member &amp\; Old Members<br /> Breakfast Reception &amp\; Association Maximization<br /> </span></span></span><span style="color: #ff0000"><span style="font-size: small"><br /> COST: Complimentary Registration&nbsp\; <br /> BLSJ Exec. Committee\; Board of Directors\; Committee Chairs/Vice Chairs\; <br /> New company contacts etc.<br /> <br /> </span></span><br /> <span style="font-size: small">Moderator:<br /> ROBERT CAIN\, CGA<br /> Product Director - Mark Systems\, USA</span></p> <p>Get candid advice on maximizing your membership in the Builders Association &amp\; the Association&rsquo\;s Networking opportunities.</p> <p>Learn about the issues that are facing our industry and state of New Jersey.<br /> <br /> 1. &nbsp\;Marketing yourself</p> <p>2. Membership benefits</p> <p>3. Relationship Marketing</p> <p>4. What&rsquo\;s in it for you?</p> <p>Also\, you will get the opportunity to meet the League&rsquo\;s officers\, board of directors\, committee chairs\, <br /> other new members &amp\; staff during our brief orientation.</p> <p>Find out how the Builders League operates and functions to serve the membership\,</p> <p><strong><span style="font-size: x-small"><span style="color: #ff0000">P.S. This is a fabulous NETWORKING FUNCTION</span></span></strong><span style="font-size: x-small" /></p> <p>Begin today to prepare for successful encounters\, build lasting\, mutually beneficial relationships<br /> and broaden your account base through the Builders Association!</p> <p>This is a reception you don&rsquo\;t want to miss! <br /> &nbsp\;</p> <p>&nbsp\;</p>
LOCATION:114 Haddontowne Court Cherry Hill\, NJ 08034
UID:e.9292.1507
SEQUENCE:3
DTSTAMP:20260421T181747Z
URL:https://members.blsj.com/events/details/new-member-breakfast-reception-association-maximization-03-19-2010-1507
END:VEVENT

END:VCALENDAR
