BEGIN:VCALENDAR
VERSION:2.0
PRODID:-//ChamberMaster//Event Calendar 2.0//EN
METHOD:PUBLISH
X-PUBLISHED-TTL:P3D
REFRESH-INTERVAL:P3D
CALSCALE:GREGORIAN
BEGIN:VEVENT
DTSTART:20050216T230000Z
DTEND:20050216T230000Z
X-MICROSOFT-CDO-ALLDAYEVENT:FALSE
SUMMARY:"Navigating the Construction Lien Law"
DESCRIPTION:"Navigating the Construction Lien Law" Attorney Cindy M. Perr\, a member of Flaster/Greenberg's Litigation and Construction Law Practice Groups will present an overview of the filing requirements for public\, commercial and residential projects\, how to use the statutory provisions to one's benefit\, and how to protect oneself from lien claims.
X-ALT-DESC;FMTTYPE=text/html:"Navigating the Construction Lien Law" Attorney Cindy M. Perr\, a member of Flaster/Greenberg's Litigation and Construction Law Practice Groups will present an overview of the filing requirements for public\, commercial and residential projects\, how to use the statutory provisions to one's benefit\, and how to protect oneself from lien claims.  
LOCATION:BLSJ Cherry Hill\, NJ 08034
UID:e.9292.9
SEQUENCE:3
DTSTAMP:20260420T210032Z
URL:https://members.blsj.com/events/details/navigating-the-construction-lien-law-02-16-2005-9
END:VEVENT

END:VCALENDAR
