BEGIN:VCALENDAR
VERSION:2.0
PRODID:-//ChamberMaster//Event Calendar 2.0//EN
METHOD:PUBLISH
X-PUBLISHED-TTL:P3D
REFRESH-INTERVAL:P3D
CALSCALE:GREGORIAN
BEGIN:VEVENT
DTSTART:20070518T220000Z
DTEND:20070518T160000Z
X-MICROSOFT-CDO-ALLDAYEVENT:FALSE
SUMMARY:NATIONAL MEMBERSHIP DAYS KICK-OFF PARTY
DESCRIPTION:Join us on Friday afternoon May 18th From 3:30 - 5:00 pm for our Membership Drive Kick-Off Party     We will have snacks & beverages and a brief preview of what we will be doing for our membership drive on May 21st & 22nd.    We will introduce members of each team\,    choose team names and announce our new member recruitment goals.     I really need everyone's help in putting together a great membership drive\, in return I promise you will have a good time\, meet some new people\, take part in some friendly team competitions and compete for awesome prizes... \n  Let me know if you will be attending so we have enough snacks for everyone    ___ yes\, I'll be at the League office for the kick-off party Name:_________________________________________
X-ALT-DESC;FMTTYPE=text/html:<font face="Verdana" size="1">&nbsp\;</font> <div align="center"><span style="FONT-WEIGHT: bold\; FONT-SIZE: 16pt\; COLOR: black\; language: EN">Join us on Friday afternoon May 18th</span></div> <div align="center"><span style="FONT-WEIGHT: bold\; FONT-SIZE: 16pt\; COLOR: black\; language: EN">From 3:30 - 5:00 pm for our</span></div> <div align="center"><span style="FONT-WEIGHT: bold\; FONT-SIZE: 16pt\; COLOR: black\; language: EN">Membership Drive Kick-Off Party</span></div> <div align="center"><span style="FONT-WEIGHT: bold\; FONT-SIZE: 16pt\; COLOR: black\; language: EN"></span></div> <div><span style="FONT-WEIGHT: bold\; FONT-SIZE: 16pt\; COLOR: black\; language: EN"></span></div> <div><span style="FONT-WEIGHT: bold\; FONT-SIZE: 16pt\; COLOR: black\; language: EN"></span></div> <div align="left"><span style="FONT-WEIGHT: bold\; FONT-SIZE: 16pt\; COLOR: black\; language: EN">&nbsp\;We will have snacks &amp\; beverages and a brief preview of what we will be doing for our membership drive on May 21st &amp\; 22nd.</span></div> <div align="left"><span style="FONT-WEIGHT: bold\; FONT-SIZE: 16pt\; COLOR: black\; language: EN"></span></div> <div><span style="FONT-SIZE: 8pt\; COLOR: black\; language: EN">&nbsp\;</span></div> <div><span style="FONT-WEIGHT: bold\; FONT-SIZE: 16pt\; COLOR: black\; language: EN">We will&nbsp\;introduce&nbsp\;</span><span style="FONT-WEIGHT: bold\; FONT-SIZE: 16pt\; COLOR: black\; language: EN">members of&nbsp\;each team\,&nbsp\;&nbsp\;&nbsp\; c</span><span style="FONT-WEIGHT: bold\; FONT-SIZE: 16pt\; COLOR: black\; language: EN">hoose&nbsp\;team names&nbsp\;</span><span style="FONT-WEIGHT: bold\; FONT-SIZE: 16pt\; COLOR: black\; language: EN">and announce our new member recruitment goals. </span></div> <div><span style="FONT-WEIGHT: bold\; FONT-SIZE: 16pt\; COLOR: black\; language: EN"></span></div> <div><span style="FONT-WEIGHT: bold\; FONT-SIZE: 16pt\; COLOR: black\; language: EN"></span></div> <div><span style="FONT-WEIGHT: bold\; FONT-SIZE: 16pt\; COLOR: black\; language: EN"></span></div> <div><span style="FONT-WEIGHT: bold\; FONT-SIZE: 16pt\; COLOR: black\; language: EN">I really need&nbsp\;everyone's help in putting together a great membership drive\, in return I promise you will have</span><span style="FONT-WEIGHT: bold\; FONT-SIZE: 16pt\; COLOR: black\; language: EN">&nbsp\;a good time\, meet some new people\,&nbsp\;take part in some friendly team competitions and compete for awesome prizes...</span></div> <div><span style="FONT-WEIGHT: bold\; FONT-SIZE: 16pt\; COLOR: black\; language: EN"><br /> </span> <div><span style="FONT-WEIGHT: bold\; FONT-SIZE: 16pt\; COLOR: black\; language: EN">Let me know if you will be attending so we have enough snacks for everyone</span></div> <div><span style="FONT-WEIGHT: bold\; FONT-SIZE: 16pt\; COLOR: black\; language: EN"></span></div> <div><span style="FONT-WEIGHT: bold\; FONT-SIZE: 16pt\; COLOR: black\; language: EN"></span></div> <div><span style="FONT-WEIGHT: bold\; FONT-SIZE: 16pt\; COLOR: black\; language: EN"></span></div> <div><span style="FONT-WEIGHT: bold\; FONT-SIZE: 16pt\; COLOR: black\; language: EN">___ yes\, I'll be at the League office for the kick-off party</span></div> <div><span style="FONT-WEIGHT: bold\; FONT-SIZE: 16pt\; COLOR: black\; language: EN">Name:_________________________________________</span></div> </div>
LOCATION:Builders League Office 114 Haddontowne Ct Cherry Hill\, NJ 08034
UID:e.9292.1148
SEQUENCE:3
DTSTAMP:20260424T090250Z
URL:https://members.blsj.com/events/details/national-membership-days-kick-off-party-05-18-2007-1148
END:VEVENT

END:VCALENDAR
