BEGIN:VCALENDAR
VERSION:2.0
PRODID:-//ChamberMaster//Event Calendar 2.0//EN
METHOD:PUBLISH
X-PUBLISHED-TTL:P3D
REFRESH-INTERVAL:P3D
CALSCALE:GREGORIAN
BEGIN:VEVENT
DTSTART:20100909T160000Z
DTEND:20100909T160000Z
X-MICROSOFT-CDO-ALLDAYEVENT:FALSE
SUMMARY:NAHB WEBINAR: The Cost of Doing Business
DESCRIPTION:NAHB WEBINAR: The Cost of Doing Business Seminar Cost: FREE TO BLSJ MEMBERS\n \n Cost of Doing Business\n September 9\, 2:00 PM to 3:00 PM NAHB's most recent Cost of Doing Business study documents how builders across the country fared during the market upheaval of 2008. The results of the study will help builders put their own performance in perspective and allow them to compare their operations to those of their peers. During the Cost of Doing Business webinar\, one of the authors of NAHB's biannual Cost of Doing Business study\, along with expert panelists\, will discuss the most recent study's results and illustrate how builders can benefit from comparing their own financial results against the industry as a whole. The study's results will allow builders to put their own numbers in perspective and compare their operations against those of their peers. Topics to be covered include:  Highlights of the results of the 2010 edition of NAHB's Cost of Doing Business study \n  How builders can use the CODB results to gauge the health and efficiency of their businesses\n  The importance of benchmarking\n  What the CODB's numbers mean for the homebuilding industry\n Participants will also learn how they can be part of the next Cost of Doing Business study and will also receive a 20% discount off a copy of Cost of Doing Business from BuilderBooks.\n hear from one of the study's authors and an industry consultant on why benchmarking is an important business tool and how the study can help you improve your operations and plan for the future. Speakers: Bill Allen\, CEO William A. Allen \n   \n Rose Quint\, Assistant Vice President for Survey Research at the National Association of Home Builders Chuck Shinn\, principal of the Shinn Group of Companies: Builder Partnerships\, Shinn Consulting and the Shinn Group                            Participants will receive a 20% discount off the purchase price of the 2010 Cost of Doing Business Study from BuilderBooks.                            This webinar counts towards continuing education credit for NAHB's professional designations: \n                                   CAPS\, CGA\, CGB\, CGR\, CMP\, CSP\, GMB\,   HCCP\, MIRM\, MCSP\, CAASH\, CGP\, GMR
X-ALT-DESC;FMTTYPE=text/html:<p style="text-align: center">NAHB WEBINAR: The Cost of Doing Business</p> <p style="text-align: center">Seminar Cost: FREE TO BLSJ MEMBERS<br /> <br /> Cost of Doing Business<br /> September 9\, 2:00 PM to 3:00 PM</p> <p>NAHB's most recent Cost of Doing Business study documents how builders across the country fared during the market upheaval of 2008. The results of the study will help builders put their own performance in perspective and allow them to compare their operations to those of their peers.</p> <p>During the Cost of Doing Business webinar\, one of the authors of NAHB's biannual Cost of Doing Business study\, along with expert panelists\, will discuss the most recent study's results and illustrate how builders can benefit from comparing their own financial results against the industry as a whole. The study's results will allow builders to put their own numbers in perspective and compare their operations against those of their peers.</p> <p>Topics to be covered include:</p> <p>&bull\;Highlights of the results of the 2010 edition of NAHB's Cost of Doing Business study <br /> &bull\;How builders can use the CODB results to gauge the health and efficiency of their businesses<br /> &bull\;The importance of benchmarking<br /> &bull\;What the CODB's numbers mean for the homebuilding industry<br /> Participants will also learn how they can be part of the next Cost of Doing Business study and will also receive a 20% discount off a copy of Cost of Doing Business from BuilderBooks.<br /> hear from one of the study&rsquo\;s authors and an industry consultant on why benchmarking is an important business tool and how the study can help you improve your operations and plan for the future.</p> <p>Speakers:&nbsp\;Bill Allen\, CEO William A. Allen&nbsp\;<br /> &nbsp\;&nbsp\;<br /> Rose Quint\, Assistant Vice President for Survey Research at the National Association of Home Builders</p> <p>Chuck Shinn\, principal of the Shinn Group of Companies: Builder Partnerships\, Shinn Consulting and the Shinn Group</p> <p>&nbsp\;&nbsp\;&nbsp\;&nbsp\;&nbsp\;&nbsp\;&nbsp\;&nbsp\;&nbsp\;&nbsp\;&nbsp\;&nbsp\;&nbsp\;&nbsp\;&nbsp\;&nbsp\;&nbsp\;&nbsp\;&nbsp\;&nbsp\;&nbsp\;&nbsp\;&nbsp\;&nbsp\;&nbsp\;&nbsp\; Participants will receive a 20% discount off the purchase price of the 2010 Cost of Doing Business Study from BuilderBooks.</p> <p>&nbsp\;&nbsp\;&nbsp\;&nbsp\;&nbsp\;&nbsp\;&nbsp\;&nbsp\;&nbsp\;&nbsp\;&nbsp\;&nbsp\;&nbsp\;&nbsp\;&nbsp\;&nbsp\;&nbsp\;&nbsp\;&nbsp\;&nbsp\;&nbsp\;&nbsp\;&nbsp\;&nbsp\;&nbsp\;&nbsp\; This webinar counts towards continuing education credit for NAHB&rsquo\;s professional designations:&nbsp\;<br /> &nbsp\;&nbsp\;&nbsp\;&nbsp\;&nbsp\;&nbsp\;&nbsp\;&nbsp\;&nbsp\;&nbsp\;&nbsp\;&nbsp\;&nbsp\;&nbsp\;&nbsp\;&nbsp\;&nbsp\;&nbsp\;&nbsp\;&nbsp\;&nbsp\;&nbsp\;&nbsp\;&nbsp\;&nbsp\;&nbsp\;&nbsp\;&nbsp\;&nbsp\;&nbsp\;&nbsp\;&nbsp\;&nbsp\; CAPS\, CGA\, CGB\, CGR\, CMP\, CSP\, GMB\,&nbsp\;&nbsp\; HCCP\, MIRM\, MCSP\, CAASH\, CGP\, GMR<br /> &nbsp\;</p>
LOCATION:114 Haddontowne Court Cherry Hill\, NJ 08034
UID:e.9292.1315
SEQUENCE:3
DTSTAMP:20260421T104211Z
URL:https://members.blsj.com/events/details/nahb-webinar-the-cost-of-doing-business-09-09-2010-1315
END:VEVENT

END:VCALENDAR
