BEGIN:VCALENDAR
VERSION:2.0
PRODID:-//ChamberMaster//Event Calendar 2.0//EN
METHOD:PUBLISH
X-PUBLISHED-TTL:P3D
REFRESH-INTERVAL:P3D
CALSCALE:GREGORIAN
BEGIN:VEVENT
DTSTART:20100218T170000Z
DTEND:20100218T170000Z
X-MICROSOFT-CDO-ALLDAYEVENT:FALSE
SUMMARY:NAHB COURSE: TRAIN THE TRAINER COURSE
DESCRIPTION:TRAIN THE TRAINER COURSE   This course is designed for building industry professionals who wish to teach The NAHB University of Housing curriculum and pass their knowledge onto their peers. Through this course you'll learn how to prepare and present adult education sessions. In addition\, you'll get a chance to practice your presentation skills in the classroom with instructor feedback and guidance.   Please note:  As time is limited\, participants will be given a pre-course assignment for a two-minute presentation. Materials for visual aids will be provided in class\, so participants should not bring laptops with them to class. Class size is limited to 10 participants\, so please register early. Due to the limited class size\, registration must be completed ahead of time and may not be completed on site.   As a graduate of this course\, you will be able to: \n   Use adult learning principles in your education sessions.\n   Employ the Socratic Method to facilitate self-discovery of information.\n   Apply the 3 R's to actively engage learners in content.\n   Structure and make use of interactive exercises effectively.\n   Recognize and practice four major delivery skills.\n   Incorporate all course skills in your education sessions. Continuing Education Credit: CAPS\, CGA\, CGB\, CGR\, GMB\, CSP\, Master CSP\, CMP\, MIRM   Instructor: Gian Hasbrock\, MIRM\, CSP\, CMP\, MCSP\n President\, WOWISM
X-ALT-DESC;FMTTYPE=text/html:<p id="_ctl0_pSpacer"><span style="font-size: 14px"><font color="#ff0000"><strong>TRAIN THE TRAINER COURSE </strong></font></span></p> <p class="MsoBody" style="margin: 0in 0in 0pt">&nbsp\;This course is designed for building industry professionals who wish to teach The NAHB University of Housing curriculum and pass their knowledge onto their peers. Through this course you&rsquo\;ll learn how to prepare and present adult education sessions. In addition\, you&rsquo\;ll get a chance to practice your presentation skills in the classroom with instructor feedback and guidance.</p> <p class="MsoBody" style="margin: 0in 0in 0pt">&nbsp\;</p> <p class="MsoBody" style="margin: 0in 0in 0pt">Please note:&nbsp\; As time is limited\, participants will be given a pre-course assignment for a two-minute presentation. Materials for visual aids will be provided in class\, so participants should not bring laptops with them to class. <strong><u><font color="#ff0000">Class size is limited to 10 participants</font></u></strong>\, so please register early. Due to the limited class size\, registration must be completed ahead of time and may not be completed on site.</p> <p class="MsoBody" style="margin: 0in 0in 0pt">&nbsp\;</p> <p class="MsoBody" style="margin: 0in 0in 0pt">As a graduate of this course\, you will be able to:</p> <p class="MsoBody" style="margin: 0in 0in 0pt"><br /> &bull\;&nbsp\;Use adult learning principles in your education sessions.<br /> &bull\;&nbsp\;Employ the Socratic Method to facilitate self-discovery of information.<br /> &bull\;&nbsp\;Apply the 3 R&rsquo\;s to actively engage learners in content.<br /> &bull\;&nbsp\;Structure and make use of interactive exercises effectively.<br /> &bull\;&nbsp\;Recognize and practice four major delivery skills.<br /> &bull\;&nbsp\;Incorporate all course skills in your education sessions.</p> <p class="MsoBody" style="margin: 0in 0in 0pt"><font color="#ff0000"><strong>Continuing Education Credit: CAPS\, CGA\, CGB\, CGR\, GMB\, CSP\, Master CSP\, CMP\, MIRM</strong></font></p> <p class="MsoBody" style="margin: 0in 0in 0pt">&nbsp\;</p> <p class="MsoBody" style="margin: 0in 0in 0pt"><font color="#ff0000"><strong>Instructor: Gian Hasbrock\, MIRM\, CSP\, CMP\, MCSP<br /> President\, WOWISM</strong></font></p> <p class="MsoBody" style="margin: 0in 0in 0pt">&nbsp\;</p> <p>&nbsp\;</p>
LOCATION:Builders League of South jersey 114 Haddontowne Court Cherry Hill\, NJ 08034
UID:e.9292.1137
SEQUENCE:3
DTSTAMP:20260421T193523Z
URL:https://members.blsj.com/events/details/nahb-course-train-the-trainer-course-02-18-2010-1137
END:VEVENT

END:VCALENDAR
