BEGIN:VCALENDAR
VERSION:2.0
PRODID:-//ChamberMaster//Event Calendar 2.0//EN
METHOD:PUBLISH
X-PUBLISHED-TTL:P3D
REFRESH-INTERVAL:P3D
CALSCALE:GREGORIAN
BEGIN:VEVENT
DTSTART:20100226T230000Z
DTEND:20100226T170000Z
X-MICROSOFT-CDO-ALLDAYEVENT:FALSE
SUMMARY:NAHB COURSE: PROJECT MANAGEMENT-POSTPONED
DESCRIPTION:Project Management Develop the skills you need for successful on or off-site production operations management. This hands-on course covers the three phases of a successful venture: planning\, implementation and evaluation. Owners\, project managers\, superintendents\, sales managers and anyone involved in the pre-construction and construction process will benefit from this introductory course.\n \n As a graduate of this course\, you will be able to:\n   Explain the basics of successful project management.\n   Execute the pre-construction project management functions and responsibilities.\n   Implement the tools available for efficient project management.\n   Manage trade contractors effectively.\n   Perform project management duties during the project.\n   Complete the duties and responsibilities of post-project management.\n (on- and off-site now in one course)\n \n Designation Credit: CGA\, CGB\, CGR\n Continuing Education Credit: CAPS\, CGA\, CGB\, CGR\, GMB\, CSP\, Master CSP\, CMP\, MIRM\n \n Instructor: Ron DeLuca\, PMP\n DeLuca Project Management & Assoc.\, Inc.
X-ALT-DESC;FMTTYPE=text/html:<p><span style="font-size: small"><strong>Project Management</strong></span></p> <p>Develop the skills you need for successful on or off-site production operations management. This hands-on course covers the three phases of a successful venture: planning\, implementation and evaluation. Owners\, project managers\, superintendents\, sales managers and anyone involved in the pre-construction and construction process will benefit from this introductory course.<br /> <br /> As a graduate of this course\, you will be able to:<br /> &bull\; Explain the basics of successful project management.<br /> &bull\; Execute the pre-construction project management functions and responsibilities.<br /> &bull\; Implement the tools available for efficient project management.<br /> &bull\; Manage trade contractors effectively.<br /> &bull\; Perform project management duties during the project.<br /> &bull\; Complete the duties and responsibilities of post-project management.<br /> (on- and off-site now in one course)<br /> <br /> Designation Credit: CGA\, CGB\, CGR<br /> Continuing Education Credit: CAPS\, CGA\, CGB\, CGR\, GMB\, CSP\, Master CSP\, CMP\, MIRM<br /> <br /> Instructor: Ron DeLuca\, PMP<br /> DeLuca Project Management &amp\; Assoc.\, Inc.</p> <p>&nbsp\;</p>
LOCATION:114 Haddontowne Court Cherry Hill\, NJ 08034
UID:e.9292.999
SEQUENCE:3
DTSTAMP:20260421T193631Z
URL:https://members.blsj.com/events/details/nahb-course-project-management-postponed-02-26-2010-999
END:VEVENT

END:VCALENDAR
