BEGIN:VCALENDAR
VERSION:2.0
PRODID:-//ChamberMaster//Event Calendar 2.0//EN
METHOD:PUBLISH
X-PUBLISHED-TTL:P3D
REFRESH-INTERVAL:P3D
CALSCALE:GREGORIAN
BEGIN:VEVENT
DTSTART:20091102T230000Z
DTEND:20091103T170000Z
X-MICROSOFT-CDO-ALLDAYEVENT:FALSE
SUMMARY:NAHB COURSE: GREEN BUILDING FOR BUILDING PROFESSIONALS -POSTPONED
DESCRIPTION:GREEN BUILDING FOR BUILDING PROFESSIONALS (NEW 2-DAY COURSE)\n THIS SEMINAR HAS BEEN POSTPONED. \n ANY QUESTIONS\, CONTACT MARLENE SPENCER AT THE LEAGUE OFFICE 856-616-8460 x230 Learn how green homes provide buyers with lower energy costs and higher value.  This course for building professionals discusses strategies for incorporating green-building principles into homes without driving up the cost of construction.\n Students will learn how green homes provide buyers lower maintenance\, better indoor air quality and better long term value.  Techniques are also discussed for competitively differentiating your home products with increased indoor environmental quality as well as energy and resource efficiency. Designations: CGA\, CGB Instructor: Michael Kurpiel\, CGA\, CGP\n NAHB National Associate Chairman\, Associate National Chairman\, Associate Members 2nd Vice Chairman\, BUILD-PAC Alternate Trustee\n Market Development Manager\, ProBuild NAHB is a Registered Provider for the American Institute of Architects' Continuing Education Systems (AIA/CES). Green Building for Building Professionals and Business Management for Building Professionals have been approved for continuing education for AIA members.      Green Building for Building Professionals has been approved for 12 course credits in the Sustainable Design (SD) and Health\, Safety and Welfare (HSW) categories.      Business Management for Building Professionals has been approved for 6 Course Credits.
X-ALT-DESC;FMTTYPE=text/html:<p><span style="font-size: 15px" /></p> <p align="center">&nbsp\;<strong>GREEN BUILDING FOR BUILDING PROFESSIONALS (NEW 2-DAY COURSE)<br /> </strong><span style="color: #ff0000"><strong>THIS SEMINAR HAS BEEN POSTPONED. <br /> ANY QUESTIONS\, CONTACT MARLENE SPENCER AT THE LEAGUE OFFICE 856-616-8460 x230</strong></span></p> <p align="left">Learn how green homes provide buyers with lower energy costs and higher value.&nbsp\; This course for building professionals discusses strategies for incorporating green-building principles into homes without driving up the cost of construction.<br /> Students will learn how green homes provide buyers lower maintenance\, better indoor air quality and better long term value.&nbsp\; Techniques are also discussed for competitively differentiating your home products with increased indoor environmental quality as well as energy and resource efficiency.</p> <p align="left">Designations: CGA\, CGB</p> <p align="left">Instructor: Michael Kurpiel\, CGA\, CGP<br /> NAHB National Associate Chairman\, Associate National Chairman\, Associate Members 2nd Vice Chairman\, BUILD-PAC Alternate Trustee<br /> Market Development Manager\, ProBuild</p> <p align="left"><span style="color: #ff0000">NAHB is a Registered Provider for the American Institute of Architects&rsquo\; Continuing Education Systems (AIA/CES). Green Building for Building Professionals and Business Management for Building Professionals have been approved for continuing education for AIA members. </span></p> <p>&nbsp\;</p> <p><span style="color: #ff0000">&middot\; Green Building for Building Professionals has been approved for 12 course credits in the Sustainable Design (SD) and Health\, Safety and Welfare (HSW) categories. </span></p> <p>&nbsp\;</p> <p><span style="color: #ff0000">&middot\; Business Management for Building Professionals has been approved for 6 Course Credits. </span></p> <p>&nbsp\;</p>
LOCATION:114 Haddontowne Court Cherry Hill\, NJ 08034
UID:e.9292.1392
SEQUENCE:3
DTSTAMP:20260422T011312Z
URL:https://members.blsj.com/events/details/nahb-course-green-building-for-building-professionals-postponed-11-02-2009-1392
END:VEVENT

END:VCALENDAR
