BEGIN:VCALENDAR
VERSION:2.0
PRODID:-//ChamberMaster//Event Calendar 2.0//EN
METHOD:PUBLISH
X-PUBLISHED-TTL:P3D
REFRESH-INTERVAL:P3D
CALSCALE:GREGORIAN
BEGIN:VEVENT
DTSTART:20100209T230000Z
DTEND:20100210T170000Z
X-MICROSOFT-CDO-ALLDAYEVENT:FALSE
SUMMARY:NAHB COURSE: GREEN BUILDING FOR BUILDING PROFESSIONALS (NEW 2 DAY COURSE)-POSTPONED
DESCRIPTION:GREEN BUILDING FOR BUILDING PROFESSIONALS (NEW 2-DAY COURSE)-POSTPONED TO JUNE 2010 Learn how green homes provide buyers with lower energy costs and higher value.  This course for building professionals discusses strategies for incorporating green-building principles into homes without driving up the cost of construction.\n Students will learn how green homes provide buyers lower maintenance\, better indoor air quality and better long term value.  Techniques are also discussed for competitively differentiating your home products with increased indoor environmental quality as well as energy and resource efficiency. NOTE: NAHB is a registered provider for the American Institute of Architects' Continuing Education Systems (AIA/CES). \n Green Building for Building for Building Professionals and Business Management has been approved for continuing education for AIA members.   Green Building for Building for Building Professionals has been approved for 12 course credits in the Sustainable Design (SD) and Health\, Safety and Welfare (HSW) categories. Designations: CGA\, CGB Instructor: Ron DeLuca\, PMP\, CGP\n Deluca Project Management & Associates\, Inc.
X-ALT-DESC;FMTTYPE=text/html:<p><span style="font-size: 15px" /></p> <p align="center">&nbsp\;<strong>GREEN BUILDING FOR BUILDING PROFESSIONALS (NEW 2-DAY COURSE)-POSTPONED TO JUNE 2010</strong></p> <p align="left">Learn how green homes provide buyers with lower energy costs and higher value.&nbsp\; This course for building professionals discusses strategies for incorporating green-building principles into homes without driving up the cost of construction.<br /> Students will learn how green homes provide buyers lower maintenance\, better indoor air quality and better long term value.&nbsp\; Techniques are also discussed for competitively differentiating your home products with increased indoor environmental quality as well as energy and resource efficiency.</p> <p align="left"><strong><span style="color: #ff0000">NOTE: NAHB is a registered provider for the American Institute of Architects&rsquo\; Continuing Education Systems (AIA/CES). <br /> Green Building for Building for Building Professionals and Business Management has been approved for continuing education for AIA members.</span></strong></p> <p><strong><span style="color: #ff0000">&bull\; Green Building for Building for Building Professionals has been approved for 12 course credits in the Sustainable Design (SD) and Health\, Safety and Welfare (HSW) categories.</span></strong></p> <p>Designations: CGA\, CGB</p> <p align="left">Instructor: Ron DeLuca\, PMP\, CGP<br /> Deluca Project Management &amp\; Associates\, Inc.<br /> &nbsp\;</p>
LOCATION:114 Haddontowne Court Cherry Hill\, NJ 08034
UID:e.9292.1391
SEQUENCE:3
DTSTAMP:20260421T194229Z
URL:https://members.blsj.com/events/details/nahb-course-green-building-for-building-professionals-new-2-day-course-postponed-02-09-2010-1391
END:VEVENT

END:VCALENDAR
