BEGIN:VCALENDAR
VERSION:2.0
PRODID:-//ChamberMaster//Event Calendar 2.0//EN
METHOD:PUBLISH
X-PUBLISHED-TTL:P3D
REFRESH-INTERVAL:P3D
CALSCALE:GREGORIAN
BEGIN:VEVENT
DTSTART:20100929T040000Z
DTEND:20100930T040000Z
X-MICROSOFT-CDO-ALLDAYEVENT:FALSE
SUMMARY:NAHB COURSE: GREEN BUILDING FOR BUILDING PROFESSIONALS
DESCRIPTION:NAHB COURSE: GREEN BUILDING FOR BUSINESS PROFESSIONALS Don't miss out on this opportunity to take yourself to the next level of Green Building! Dates: Wednesday & Thursday\, September 29 & 30th\, 2010 Time: 8:30 am - 5:00 pm Fee: NAHB Members $420 \n          Non-Members:  $475 Implementing cost-effective green building into your construction practices begins with up-front planning that examines the whole house and the building science behind it. In this two-day course\, you will learn how to apply the ANSI-approved National Green Building Standard  in the construction of a new home\, remodel\, site development or multifamily project. With a focus on flexibility and a sound knowledge base\, the course provides the tools for a successful green project. As a graduate of this course\, you will learn: \n   How to integrate sound building science principles into design decisions and the materials selection process. \n   How to incorporate the ANSI-approved National Green Building Standard \n   Examine specific best green building practices in each chapter of the National Green Building Standard \n   How to evaluate and sell in the growing green marketplace. Designations:\n CGA\, CGB\, CGP\, GMR\, Master CGP\n \n Instructor: Ronald DeLuca\, PMP\, CGP\n DeLuca Project Management & Associates\, Inc.
X-ALT-DESC;FMTTYPE=text/html:<p><strong><span style="color: rgb(255\,0\,0)">NAHB COURSE: GREEN BUILDING FOR BUSINESS PROFESSIONALS</span></strong></p> <p><strong><span style="color: rgb(255\,0\,0)">Don&rsquo\;t miss out on this opportunity to take yourself to the next level of Green Building!</span></strong></p> <p>Dates: Wednesday &amp\; Thursday\,&nbsp\;September 29 &amp\; 30th\, 2010</p> <p><span style="font-size: small"><span style="color: rgb(255\,0\,0)"><strong>Time: 8:30 am - 5:00 pm</strong></span></span><span style="color: rgb(255\,0\,0)" /></p> <p>Fee: NAHB Members $420&nbsp\;<br /> &nbsp\;&nbsp\;&nbsp\;&nbsp\;&nbsp\;&nbsp\;&nbsp\;&nbsp\;&nbsp\;Non-Members:&nbsp\; $475</p> <p>Implementing cost-effective green building into your construction practices begins with up-front planning that examines the whole house and the building science behind it. In this two-day course\, you will learn how to apply the ANSI-approved National Green Building Standard&trade\; in the construction of a new home\, remodel\, site development or multifamily project. With a focus on flexibility and a sound knowledge base\, the course provides the tools for a successful green project.</p> <p>As a graduate of this course\, you will learn: <br /> &bull\; How to integrate sound building science principles into design decisions and the materials selection process. <br /> &bull\; How to incorporate the ANSI-approved National Green Building Standard <br /> &bull\; Examine specific best green building practices in each chapter of the National Green Building Standard <br /> &bull\; How to evaluate and sell in the growing green marketplace.</p> <p>Designations:<br /> CGA\, CGB\, CGP\, GMR\, Master CGP<br /> <br /> Instructor: Ronald DeLuca\, PMP\, CGP<br /> DeLuca Project Management &amp\; Associates\, Inc.<br /> <br /> &nbsp\;</p>
LOCATION:114 Haddontowne Court Cherry Hill\, NJ 08034
UID:e.9292.1304
SEQUENCE:3
DTSTAMP:20260421T092821Z
URL:https://members.blsj.com/events/details/nahb-course-green-building-for-building-professionals-09-29-2010-1304
END:VEVENT

END:VCALENDAR
