BEGIN:VCALENDAR
VERSION:2.0
PRODID:-//ChamberMaster//Event Calendar 2.0//EN
METHOD:PUBLISH
X-PUBLISHED-TTL:P3D
REFRESH-INTERVAL:P3D
CALSCALE:GREGORIAN
BEGIN:VEVENT
DTSTART:20090617T220000Z
DTEND:20090617T160000Z
X-MICROSOFT-CDO-ALLDAYEVENT:FALSE
SUMMARY:NAHB COURSE: BUSINESS MANAGEMENT FOR BUILDING PROFESSIONALS-SOLD OUT
DESCRIPTION:Learn the management skills that give industry leaders the edge. This course will give you a solid foundation in those best business practices so valuable to smaller businesses: planning\, organizing\, staffing/ directing and controlling. By using case studies and sample forms\, your instructors give you practical and applicable tools for management success. Designations: CAPS\, CGA\, CGB\, CGR\, MCSP\, CGP Related Topics: Certified Aging-In-Place Specialist (CAPS)\, Certified Graduate Associate (CGA)\, Certified Graduate Builder (CGB)\, Certified Graduate Remodeler (CGR) \, Defining Housing Affordability Related Audiences: Remodelers\, Land Developers\, Accountants\, Architects/Planners/Designers\, Builders/Contractors - Commercial\, Engineers\, Subcontractors/Specialty Trades\, Manufacturers/Suppliers\, Builders/Contractors - Custom\, Builders/Contractors - 50+ Housing\, Builders/Contractors - Small Volume\, Dealers/Distributors\, Modular/Panelized/Log Home Manufacturers/Dealers\, Members Instructor: Bill Rauser NAHB is a Registered Provider for the American Institute of Architects' Continuing Education Systems (AIA/CES). Green Building for Building Professionals and Business Management for Building Professionals have been approved for continuing education for AIA members.      Green Building for Building Professionals has been approved for 12 course credits in the Sustainable Design (SD) and Health\, Safety and Welfare (HSW) categories.      Business Management for Building Professionals has been approved for 6 Course Credits.
X-ALT-DESC;FMTTYPE=text/html:<p>Learn the management skills that give industry leaders the edge. This course will give you a solid foundation in those best business practices so valuable to smaller businesses: planning\, organizing\, staffing/ directing and controlling. By using case studies and sample forms\, your instructors give you practical and applicable tools for management success.</p> <p>Designations: CAPS\, CGA\, CGB\, CGR\, MCSP\, CGP</p> <p>Related Topics: Certified Aging-In-Place Specialist (CAPS)\, Certified Graduate Associate (CGA)\, Certified Graduate Builder (CGB)\, Certified Graduate Remodeler (CGR) \, Defining Housing Affordability</p> <p>Related Audiences: Remodelers\, Land Developers\, Accountants\, Architects/Planners/Designers\, Builders/Contractors - Commercial\, Engineers\, Subcontractors/Specialty Trades\, Manufacturers/Suppliers\, Builders/Contractors - Custom\, Builders/Contractors - 50+ Housing\, Builders/Contractors - Small Volume\, Dealers/Distributors\, Modular/Panelized/Log Home Manufacturers/Dealers\, Members</p> <p>Instructor: Bill Rauser</p> <p><span style="color: #ff0000">NAHB is a Registered Provider for the American Institute of Architects&rsquo\; Continuing Education Systems (AIA/CES). Green Building for Building Professionals and Business Management for Building Professionals have been approved for continuing education for AIA members. </span></p> <p>&nbsp\;</p> <p><span style="color: #ff0000">&middot\; Green Building for Building Professionals has been approved for 12 course credits in the Sustainable Design (SD) and Health\, Safety and Welfare (HSW) categories. </span></p> <p>&nbsp\;</p> <p><span style="color: #ff0000">&middot\; Business Management for Building Professionals has been approved for 6 Course Credits. </span></p> <p>&nbsp\;</p>
LOCATION:114 Haddontowne Court Cherry Hill\, NJ 08034
UID:e.9292.1285
SEQUENCE:3
DTSTAMP:20260422T063840Z
URL:https://members.blsj.com/events/details/nahb-course-business-management-for-building-professionals-sold-out-06-17-2009-1285
END:VEVENT

END:VCALENDAR
