BEGIN:VCALENDAR
VERSION:2.0
PRODID:-//ChamberMaster//Event Calendar 2.0//EN
METHOD:PUBLISH
X-PUBLISHED-TTL:P3D
REFRESH-INTERVAL:P3D
CALSCALE:GREGORIAN
BEGIN:VEVENT
DTSTART:20100512T220000Z
DTEND:20100512T160000Z
X-MICROSOFT-CDO-ALLDAYEVENT:FALSE
SUMMARY:NAHB COURSE: BUSINESS ACCOUNTING & JOB COST -SPECIAL OFFER BLSJ MEMBERS $100 PP
DESCRIPTION:Business Accounting and Job Cost - SPECIAL OFFER FOR BLSJ MEMBERS ONLY - $100 PP Builders and remodelers need to understand accounting principles and job cost procedures and functions in order to properly manage their business. This course will provide the terminology and method foundation necessary to comprehend basic business reporting and job cost procedures\, measurement and analysis. In addition\, an introduction to the more common types of financing methods for new homes\, construction loans and operating capital will be covered. As a graduate of this course\, you will be able to: \n   Define concepts and terminology basic to residential construction business accounting \n   Describe the value and usage of common financial reports used for measuring business performance\, job cost accounting\, and variance analysis \n   Explain the importance and process of measuring and analyzing job cost against performance \n   Identify the essentials of operating capital funding methods. \n   Identify common construction and permanent mortgage products etc Designations:\n CGA\, CGB\, CGR \n \n Related Topics:\n Certified Graduate Associate (CGA)\, Certified Graduate Builder (CGB)\, Certified Graduate Remodeler (CGR) \, Designations\, Education \n \n Related Audiences:\n Remodelers\, Land Developers\, Accountants\, Architects/Planners/Designers\, Builders/Contractors - Commercial\, Engineers\, Subcontractors/Specialty Trades\, Financial Services Professionals\, Builders/Contractors - Custom\, Builders/Contractors - Production\, Builders/Contractors - 50+ Housing\, Builders/Contractors - Small Volume\, Modular/Panelized/Log Home Manufacturers/Dealers\, Members \n \n Instructor: Robert Cain\, CGA\n Mark Systems\, USA
X-ALT-DESC;FMTTYPE=text/html:<p><span style="font-size: small"><strong><span style="color: #ff0000">Business Accounting and Job Cost - SPECIAL OFFER FOR BLSJ MEMBERS ONLY - $100 PP</span></strong></span></p> <p>Builders and remodelers need to understand accounting principles and job cost procedures and functions in order to properly manage their business. This course will provide the terminology and method foundation necessary to comprehend basic business reporting and job cost procedures\, measurement and analysis. In addition\, an introduction to the more common types of financing methods for new homes\, construction loans and operating capital will be covered. As a graduate of this course\, you will be able to: <br /> &bull\; Define concepts and terminology basic to residential construction business accounting <br /> &bull\; Describe the value and usage of common financial reports used for measuring business performance\, job cost accounting\, and variance analysis <br /> &bull\; Explain the importance and process of measuring and analyzing job cost against performance <br /> &bull\; Identify the essentials of operating capital funding methods. <br /> &bull\; Identify common construction and permanent mortgage products etc</p> <p>Designations:<br /> CGA\, CGB\, CGR <br /> <br /> Related Topics:<br /> Certified Graduate Associate (CGA)\, Certified Graduate Builder (CGB)\, Certified Graduate Remodeler (CGR) \, Designations\, Education <br /> <br /> Related Audiences:<br /> Remodelers\, Land Developers\, Accountants\, Architects/Planners/Designers\, Builders/Contractors - Commercial\, Engineers\, Subcontractors/Specialty Trades\, Financial Services Professionals\, Builders/Contractors - Custom\, Builders/Contractors - Production\, Builders/Contractors - 50+ Housing\, Builders/Contractors - Small Volume\, Modular/Panelized/Log Home Manufacturers/Dealers\, Members <br /> <br /> Instructor: Robert Cain\, CGA<br /> Mark Systems\, USA</p>
LOCATION:114 Haddontowne Court Cherry Hill\, NJ 08034
UID:e.9292.1332
SEQUENCE:3
DTSTAMP:20260421T145519Z
URL:https://members.blsj.com/events/details/nahb-course-business-accounting-job-cost-special-offer-blsj-members-100-pp-05-12-2010-1332
END:VEVENT

END:VCALENDAR
