BEGIN:VCALENDAR
VERSION:2.0
PRODID:-//ChamberMaster//Event Calendar 2.0//EN
METHOD:PUBLISH
X-PUBLISHED-TTL:P3D
REFRESH-INTERVAL:P3D
CALSCALE:GREGORIAN
BEGIN:VEVENT
DTSTART:20100304T050000Z
DTEND:20100305T050000Z
X-MICROSOFT-CDO-ALLDAYEVENT:FALSE
SUMMARY:NAHB COURSE: ADVANCED GREEN BUILDING: BUILDING SCIENCE - NEW COURSE - 03/04/2010
DESCRIPTION:NAHB COURSE: ADVANCED GREEN BUILDING: BUILDING SCIENCE (NEW COURSE)\n Don't miss out on this opportunity to take yourself to the next level of Green Building! Dates: Thursday & Friday\, March 4th & 5th\, 2010 Time: 8:30 am - 5:00 pm Fee: NAHB Members $425  \n            Non-Members: $495\n \n Description:\n During this program you will be instructed on proper building science techniques for constructing and remodeling high-performance homes. The high-performance ideal encompasses more than just energy efficiency it's about potentially creating a more durable\, environmentally responsible and sustainable living environment. By using case studies\, detailed construction drawings and other resources found on GreenBuildingAdvisor.com\, NAHB and BuildingGreen\, LLC have developed this course to provide builders and remodelers with the highest-level information available. \n \n As a graduate of this course\, you will be able to:\n \n -Apply building physics to building performance\n -Translate building science into elements of design and construction\n -Dovetail all features of high performance: energy efficiency\, water efficiency\, materials efficiency and indoor environmental quality\n -Describe the high-performance home and its benefits to both your team and your clients\n -Use all aspects of GreenBuildingAdvisor.com\, including "My GBA\," the site's project management tool\, on individual projects and with your project team Designation Credit(s): MGBR\n \n Instructor: John Barrows\, CGB\, CGP\, GMB\n \n Interest Area: Manufacturers/Suppliers\, Land Developers\, Systems Built Home Manufacturers & Builders \, Single-Family\, Production Builders\, Remodelers\, Single-Family\, Small Volume Builders\, Subcontractors/Specialty Trades\, Multifamily Builders & Developers
X-ALT-DESC;FMTTYPE=text/html:<p><strong><span style="color: rgb(255\, 0\, 0)\;">NAHB COURSE: ADVANCED GREEN BUILDING: BUILDING SCIENCE (NEW COURSE)<br /> Don&rsquo\;t miss out on this opportunity to take yourself to the next level of Green Building!</span></strong></p> <p>Dates: Thursday &amp\; Friday\, March 4th &amp\; 5th\, 2010</p> <p><span style="font-size: small\;"><span style="color: rgb(255\, 0\, 0)\;"><strong>Time: 8:30 am - 5:00 pm</strong></span></span><span style="color: rgb(255\, 0\, 0)\;" /></p> <p>Fee: NAHB Members $425&nbsp\; <br /> &nbsp\;&nbsp\;&nbsp\;&nbsp\;&nbsp\;&nbsp\;&nbsp\;&nbsp\;&nbsp\;&nbsp\; Non-Members: $495<br /> <br /> Description:<br /> During this program you will be instructed on proper building science techniques for constructing and remodeling high-performance homes. The high-performance ideal encompasses more than just energy efficiency&mdash\;it&rsquo\;s about potentially creating a more durable\, environmentally responsible and sustainable living environment. By using case studies\, detailed construction drawings and other resources found on GreenBuildingAdvisor.com\, NAHB and BuildingGreen\, LLC have developed this course to provide builders and remodelers with the highest-level information available. <br /> <br /> As a graduate of this course\, you will be able to:<br /> <br /> -Apply building physics to building performance<br /> -Translate building science into elements of design and construction<br /> -Dovetail all features of high performance: energy efficiency\, water efficiency\, materials efficiency and indoor environmental quality<br /> -Describe the high-performance home and its benefits to both your team and your clients<br /> -Use all aspects of GreenBuildingAdvisor.com\, including &ldquo\;My GBA\,&rdquo\; the site&rsquo\;s project management tool\, on individual projects and with your project team</p> <p>Designation Credit(s): MGBR<br /> <br /> Instructor: John Barrows\, CGB\, CGP\, GMB<br /> <br /> Interest Area: Manufacturers/Suppliers\, Land Developers\, Systems Built Home Manufacturers &amp\; Builders \, Single-Family\, Production Builders\, Remodelers\, Single-Family\, Small Volume Builders\, Subcontractors/Specialty Trades\, Multifamily Builders &amp\; Developers <br /> &nbsp\;</p>
LOCATION:114 Haddontowne Court Cherry Hill\, NJ 08034
UID:e.9292.1024
SEQUENCE:3
DTSTAMP:20260421T193933Z
URL:https://members.blsj.com/events/details/nahb-course-advanced-green-building-building-science-new-course-03-04-2010-03-04-2010-1024
END:VEVENT

END:VCALENDAR
