BEGIN:VCALENDAR
VERSION:2.0
PRODID:-//ChamberMaster//Event Calendar 2.0//EN
METHOD:PUBLISH
X-PUBLISHED-TTL:P3D
REFRESH-INTERVAL:P3D
CALSCALE:GREGORIAN
BEGIN:VEVENT
DTSTART:20070223T170000Z
DTEND:20070223T170000Z
X-MICROSOFT-CDO-ALLDAYEVENT:FALSE
SUMMARY:MULTICULTURAL SALES TECHNIQUES & STRATEGIES - NAHB Approved Cours
DESCRIPTION:How can you profit from the increasing number of today's and tomorrow's multicultural new home buyers in the U.S.? This course provides the entire building/remodeling sales and marketing team with an understanding of our culturally diverse home buying market and practical tips for communicating effectively with the multicultural client. Participants will benefit from hearing about actual experiences with multicultural clients and by examining their own best practices to determine how they can adapt their techniques to be successful with clients from any cultural background. Participants of this course will be able to:   Describe the history of the multicultural home buying market in the U.S.   Describe the importance of cultural sensitivity in the new home and remodeling sales and marketing processes.   Identify techniques for communicating effectively with the multicultural client during the new home sales transaction or home remodeling project.   Identify tips for applying knowledge of various cultures to all aspects of the new home sales and home remodeling businesses.   Reference facts about nations from where significant segments of the U.S. home buying market originate in order to better understand the cultural needs of the new home buyer or remodeling client. Designations: CMP\, MIRM\, MCSP Instructor: Gian Hasbrock
X-ALT-DESC;FMTTYPE=text/html:<p>How can you profit from the increasing number of today&rsquo\;s and tomorrow&rsquo\;s multicultural new home buyers in the U.S.? This course provides the entire building/remodeling sales and marketing team with an understanding of our culturally diverse home buying market and practical tips for communicating effectively with the multicultural client. Participants will benefit from hearing about actual experiences with multicultural clients and by examining their own best practices to determine how they can adapt their techniques to be successful with clients from any cultural background. Participants of this course will be able to: &middot\; Describe the history of the multicultural home buying market in the U.S. &middot\; Describe the importance of cultural sensitivity in the new home and remodeling sales and marketing processes. &middot\; Identify techniques for communicating effectively with the multicultural client during the new home sales transaction or home remodeling project. &middot\; Identify tips for applying knowledge of various cultures to all aspects of the new home sales and home remodeling businesses. &middot\; Reference facts about nations from where significant segments of the U.S. home buying market originate in order to better understand the cultural needs of the new home buyer or remodeling client.</p> <p><strong>Designations:</strong> <a href="http://www.nahb.org/category.aspx?sectionID=689">CMP</a>\, <a href="http://www.nahb.org/category.aspx?sectionID=690">MIRM</a>\, <a href="http://www.nahb.org/category.aspx?sectionID=688"><font color="#800080">MCSP</font></a></p> <p><strong>Instructor: Gian Hasbrock</strong></p>
LOCATION:Builders League of South Jersey 114 Haddontowne Ct Cherry Hill\, NJ 08034
UID:e.9292.1307
SEQUENCE:3
DTSTAMP:20260422T052608Z
URL:https://members.blsj.com/events/details/multicultural-sales-techniques-strategies-nahb-approved-cours-02-23-2007-1307
END:VEVENT

END:VCALENDAR
