BEGIN:VCALENDAR
VERSION:2.0
PRODID:-//ChamberMaster//Event Calendar 2.0//EN
METHOD:PUBLISH
X-PUBLISHED-TTL:P3D
REFRESH-INTERVAL:P3D
CALSCALE:GREGORIAN
BEGIN:VEVENT
DTSTART:20050216T170000Z
DTEND:20050216T170000Z
X-MICROSOFT-CDO-ALLDAYEVENT:FALSE
SUMMARY:Monroe Township Builders Meeting
DESCRIPTION:Meeting to discuss water availability in Monroe Township.
X-ALT-DESC;FMTTYPE=text/html:Meeting to discuss water availability in Monroe Township.
LOCATION:Regency Palace Wellington's Sports Bar Mt Laurel\, NJ 08054
UID:e.9292.1297
SEQUENCE:3
DTSTAMP:20260420T210039Z
URL:https://members.blsj.com/events/details/monroe-township-builders-meeting-02-16-2005-1297
END:VEVENT

END:VCALENDAR
