BEGIN:VCALENDAR
VERSION:2.0
PRODID:-//ChamberMaster//Event Calendar 2.0//EN
METHOD:PUBLISH
X-PUBLISHED-TTL:P3D
REFRESH-INTERVAL:P3D
CALSCALE:GREGORIAN
BEGIN:VEVENT
DTSTART:20070215T230000Z
DTEND:20070215T230000Z
X-MICROSOFT-CDO-ALLDAYEVENT:FALSE
SUMMARY:Monroe Builders Meeting
DESCRIPTION:
X-ALT-DESC;FMTTYPE=text/html:
LOCATION:Taylor Wiseman Taylor 124 Gaither Drive Suite 150 Mt Laurel\, NJ 08054
UID:e.9292.408
SEQUENCE:3
DTSTAMP:20260422T051908Z
URL:https://members.blsj.com/events/details/monroe-builders-meeting-02-15-2007-408
END:VEVENT

END:VCALENDAR
