BEGIN:VCALENDAR
VERSION:2.0
PRODID:-//ChamberMaster//Event Calendar 2.0//EN
METHOD:PUBLISH
X-PUBLISHED-TTL:P3D
REFRESH-INTERVAL:P3D
CALSCALE:GREGORIAN
BEGIN:VEVENT
DTSTART:20090513T160000Z
DTEND:20090513T160000Z
X-MICROSOFT-CDO-ALLDAYEVENT:FALSE
SUMMARY:Monroe Builders Group Meeting - 05/13/2009
DESCRIPTION:
X-ALT-DESC;FMTTYPE=text/html:
LOCATION:114 Haddontowne Court Cherry Hill\, NJ 08034
UID:e.9292.407
SEQUENCE:3
DTSTAMP:20260422T075610Z
URL:https://members.blsj.com/events/details/monroe-builders-group-meeting-05-13-2009-05-13-2009-407
END:VEVENT

END:VCALENDAR
