BEGIN:VCALENDAR
VERSION:2.0
PRODID:-//ChamberMaster//Event Calendar 2.0//EN
METHOD:PUBLISH
X-PUBLISHED-TTL:P3D
REFRESH-INTERVAL:P3D
CALSCALE:GREGORIAN
BEGIN:VEVENT
DTSTART:20070405T220000Z
DTEND:20070405T160000Z
X-MICROSOFT-CDO-ALLDAYEVENT:FALSE
SUMMARY:Monroe Builders Group Meeting - 04/05/2007
DESCRIPTION:
X-ALT-DESC;FMTTYPE=text/html:
LOCATION:Taylor Wiseman Taylor 124 Gaither Drive Suite 150 Mt. Laurel\, NJ 08054
UID:e.9292.852
SEQUENCE:3
DTSTAMP:20260422T075505Z
URL:https://members.blsj.com/events/details/monroe-builders-group-meeting-04-05-2007-04-05-2007-852
END:VEVENT

END:VCALENDAR
