BEGIN:VCALENDAR
VERSION:2.0
PRODID:-//ChamberMaster//Event Calendar 2.0//EN
METHOD:PUBLISH
X-PUBLISHED-TTL:P3D
REFRESH-INTERVAL:P3D
CALSCALE:GREGORIAN
BEGIN:VEVENT
DTSTART:20061207T170000Z
DTEND:20061207T230000Z
X-MICROSOFT-CDO-ALLDAYEVENT:FALSE
SUMMARY:Monroe Builders Committee Meeting
DESCRIPTION:
X-ALT-DESC;FMTTYPE=text/html:
LOCATION:BLSJ Cherry Hill\, NJ 08034
UID:e.9292.851
SEQUENCE:3
DTSTAMP:20260422T023211Z
URL:https://members.blsj.com/events/details/monroe-builders-committee-meeting-12-07-2006-851
END:VEVENT

END:VCALENDAR
