BEGIN:VCALENDAR
VERSION:2.0
PRODID:-//ChamberMaster//Event Calendar 2.0//EN
METHOD:PUBLISH
X-PUBLISHED-TTL:P3D
REFRESH-INTERVAL:P3D
CALSCALE:GREGORIAN
BEGIN:VEVENT
DTSTART:20031204T230000Z
DTEND:20031204T170000Z
X-MICROSOFT-CDO-ALLDAYEVENT:FALSE
SUMMARY:Mold Control Seminar
DESCRIPTION:MoldControl: How To Identify\, Prevent\, Remediate And Defend Against Mold Problems
X-ALT-DESC;FMTTYPE=text/html:MoldControl: How To Identify\, Prevent\, Remediate And Defend Against Mold Problems 
LOCATION:Mt. Laurel\, NJ 08053
UID:e.9292.406
SEQUENCE:3
DTSTAMP:20260420T030722Z
URL:https://members.blsj.com/events/details/mold-control-seminar-12-04-2003-406
END:VEVENT

END:VCALENDAR
