BEGIN:VCALENDAR
VERSION:2.0
PRODID:-//ChamberMaster//Event Calendar 2.0//EN
METHOD:PUBLISH
X-PUBLISHED-TTL:P3D
REFRESH-INTERVAL:P3D
CALSCALE:GREGORIAN
BEGIN:VEVENT
DTSTART:20060216T170000Z
DTEND:20060216T170000Z
X-MICROSOFT-CDO-ALLDAYEVENT:FALSE
SUMMARY:Meet the Builder Sub-Committee Meeting - 02/16/2006
DESCRIPTION:
X-ALT-DESC;FMTTYPE=text/html:
LOCATION:Builders League Cherry Hill\, NJ 08034
UID:e.9292.636
SEQUENCE:3
DTSTAMP:20260421T134828Z
URL:https://members.blsj.com/events/details/meet-the-builder-sub-committee-meeting-02-16-2006-02-16-2006-636
END:VEVENT

END:VCALENDAR
