BEGIN:VCALENDAR
VERSION:2.0
PRODID:-//ChamberMaster//Event Calendar 2.0//EN
METHOD:PUBLISH
X-PUBLISHED-TTL:P3D
REFRESH-INTERVAL:P3D
CALSCALE:GREGORIAN
BEGIN:VEVENT
DTSTART:20070122T230000Z
DTEND:20070122T230000Z
X-MICROSOFT-CDO-ALLDAYEVENT:FALSE
SUMMARY:Meet the Builder Sub-Committee meeting - 01/22/2007
DESCRIPTION:
X-ALT-DESC;FMTTYPE=text/html:
LOCATION:BLSJ Cherry hill\, NJ 08034
UID:e.9292.385
SEQUENCE:3
DTSTAMP:20260422T040006Z
URL:https://members.blsj.com/events/details/meet-the-builder-sub-committee-meeting-01-22-2007-01-22-2007-385
END:VEVENT

END:VCALENDAR
