BEGIN:VCALENDAR
VERSION:2.0
PRODID:-//ChamberMaster//Event Calendar 2.0//EN
METHOD:PUBLISH
X-PUBLISHED-TTL:P3D
REFRESH-INTERVAL:P3D
CALSCALE:GREGORIAN
BEGIN:VEVENT
DTSTART:20070110T230000Z
DTEND:20070110T230000Z
X-MICROSOFT-CDO-ALLDAYEVENT:FALSE
SUMMARY:Meet the Builder Sub-Committee Meeting - 01/10/2007
DESCRIPTION:
X-ALT-DESC;FMTTYPE=text/html:
LOCATION:\, NJ
UID:e.9292.637
SEQUENCE:3
DTSTAMP:20260422T040043Z
URL:https://members.blsj.com/events/details/meet-the-builder-sub-committee-meeting-01-10-2007-01-10-2007-637
END:VEVENT

END:VCALENDAR
