BEGIN:VCALENDAR
VERSION:2.0
PRODID:-//ChamberMaster//Event Calendar 2.0//EN
METHOD:PUBLISH
X-PUBLISHED-TTL:P3D
REFRESH-INTERVAL:P3D
CALSCALE:GREGORIAN
BEGIN:VEVENT
DTSTART:20100317T220000Z
DTEND:20100317T220000Z
X-MICROSOFT-CDO-ALLDAYEVENT:FALSE
SUMMARY:MEET THE BUILDER/SPEED NETWORKING NIGHT 2010 - ASSOCIATE REGISTRATIONS
DESCRIPTION:How would you like to get twenty builders in a room\, \n just waiting to hear about what your company can offer them? The BUILDERS LEAGUE has done that for you!\n \n "MEET THE BUILDER/SPEED NETWORKING NIGHT"\n \n Wednesday\, March 17\, 2010\n 5:30 PM \n Lucien's Manor\, 81 West White Horse Pike\, Berlin\, NJ Here's how it will work... \n * Builders will be stationed at tables throughout the room\n * You will have three (3) minutes to present yourself/ your company this will be a one-on-one meeting with the builder/purchasing manager/marketing director. \n * This will be a timed event! When your time is up\, you will move to the next builder table that you wish to meet with.  Scheduled to Attend:\n Alliance Homes\; BEKK Enterprises\; Bruce Paparone\, Inc\; C & C Development\; C.W.R. Construction\;\n Cornerstone Properties\; D'Anastasio Corporation\; Robert C. Danley Builders\; \n Daniel Gregory Inc.\; Dewson Construction Company\; Dream Works Homes\; \n Glendale Builders\; Glenn Construction\; G.R.D. Construction\, Inc.\; \n Haber & Associates\;Hollister Construction Services: \n Hooper Builders & Developers\; Insight Construction\; J.S. Hovnanian & Sons\; \n Kojeski Construction\; Leewood Real Estate Group\; Murphy Homes\; \n Paparone Housing\; Piersol Development\; RC Patrick Development Corp\; \n Russo Homes\; Ryan Homes\; Sherwood Forest Homes\;Tim Schaeffer Communities\;  Some tips on making a great meeting... \n * Use your time wisely consider this a pre-meeting. \n * Come prepared know the builder and their product and have questions ready. \n * Prepare a quick intro to give the builder a concise overview of your company. \n * Prepare leave-behind materials.
X-ALT-DESC;FMTTYPE=text/html:<p style="text-align: center"><span style="font-size: small">How would you like to get twenty builders in a room\, <br /> just waiting to hear about what your company can offer them?</span></p> <p style="text-align: center"><span style="font-size: small">The BUILDERS LEAGUE has done that for you!<br /> <br /> <strong><span style="color: rgb(255\,0\,0)">&quot\;MEET THE BUILDER/SPEED NETWORKING NIGHT&quot\;</span></strong><br /> <br /> Wednesday\, March 17\, 2010<br /> 5:30 PM <br /> Lucien&rsquo\;s Manor\, 81 West White Horse Pike\, Berlin\, NJ</span><span style="font-size: small"> Here&rsquo\;s how it will work... <br /> * Builders will be stationed at tables throughout the room<br /> * You will have three (3) minutes to present yourself/ your company&mdash\;this will be a one-on-one meeting with the builder/purchasing manager/marketing director. <br /> * This will be a timed event! When your time is up\, you will move to the next builder table that you wish to meet with.</span></p> <p style="text-align: center"><span style="color: rgb(255\,0\,0)"><span style="font-size: medium"><u><strong>&nbsp\;Scheduled to Attend:<br /> </strong></u>Alliance Homes\; BEKK Enterprises\; Bruce Paparone\, Inc\; C &amp\; C Development\; C.W.R. Construction\;<br /> Cornerstone Properties\; D&rsquo\;Anastasio Corporation\; Robert C. Danley Builders\; <br /> Daniel Gregory Inc.\; Dewson Construction Company\; Dream Works Homes\; <br /> Glendale Builders\; Glenn Construction\; G.R.D. Construction\, Inc.\; <br /> Haber &amp\; Associates\;Hollister Construction Services: <br /> Hooper Builders &amp\; Developers\; Insight Construction\; J.S. Hovnanian &amp\; Sons\; <br /> Kojeski Construction\; Leewood Real Estate Group\; Murphy Homes\; <br /> Paparone Housing\; Piersol Development\; RC Patrick Development Corp\; <br /> Russo Homes\; Ryan Homes\; Sherwood Forest Homes\;Tim Schaeffer Communities\;</span></span></p> <p style="text-align: center"><span style="font-size: medium"><u><strong><span style="color: rgb(255\,0\,0)" /></strong></u></span></p> <p style="text-align: center">Some tips on making a great meeting... <br /> * Use your time wisely&mdash\;consider this a pre-meeting. <br /> * Come prepared&mdash\;know the builder and their product and have questions ready. <br /> * Prepare a quick intro to give the builder a concise overview of your company. <br /> * Prepare leave-behind materials. <br /> &nbsp\;</p> <p>&nbsp\;</p>
LOCATION:81 W. White Horse Pike Berlin\, NJ 08009
UID:e.9292.1014
SEQUENCE:3
DTSTAMP:20260421T181718Z
URL:https://members.blsj.com/events/details/meet-the-builder-speed-networking-night-2010-associate-registrations-03-17-2010-1014
END:VEVENT

END:VCALENDAR
