BEGIN:VCALENDAR
VERSION:2.0
PRODID:-//ChamberMaster//Event Calendar 2.0//EN
METHOD:PUBLISH
X-PUBLISHED-TTL:P3D
REFRESH-INTERVAL:P3D
CALSCALE:GREGORIAN
BEGIN:VEVENT
DTSTART:20100317T220000Z
DTEND:20100317T220000Z
X-MICROSOFT-CDO-ALLDAYEVENT:FALSE
SUMMARY:MEET THE BUILDER/SPEED NETWORKING 2010 - BUILDER REGISTRATIONS
DESCRIPTION:Wednesday\n MARCH 17\, 2010\n Lucien's Manor\, 81 West White Horse Pike\, Berlin\, NJ  \n BUILDER REGISTRATION FORM BRING YOUR PURCHASING AGENT\, SALES & MARKETING DIRECTOR\, \n AND OTHER DECISION MAKERS ON YOUR TEAM ... \n AND YOUR BUSINESS CARDS ! 5:30 PM - 8:30 PM \n "Speed Networking"\n SPEED NETWORKING...THE FAST\, FUN AND GUARANTEED WAY \n FOR BUILDERS AND ASSOCIATES TO MEET\n  \n HERE'S HOW IT WORKS:\n   EACH ASSOCIATE GETS 3 MINUTES TO PRESENT THEMSELVES/THEIR COMPANY\n   CONSIDER THIS IS A PRE-MEETING\, THIS IS A RELAXED INFORMAL EVENT \n NO PRESSURE FOR YOU TO BUY ANYTHING\n   THIS IS A TIMED EVENT\, GIVING EVERYONE PRESENT AN OPPORTUNITY TO HAVE YOUR UNDIVIDED ATTENTION FOR 3 MINUTES\n   BRING YOUR PURCHASING AGENT/BUYER/SALES & MARKETING DIRECTOR\n   BE OPEN - AND RECEPTIVE TO A NEW SOURCE FOR PRODUCTS OR SERVICES\n   BE HONEST - IF THERE IS NOT A FIT FOR A FUTURE BUSINESS RELATIONSHIP\, SAY SO\n   BE SUPPORTIVE - ASSOCIATES ARE A VITAL PART OF OUR ASSOCIATION...SO KEEP AN OPEN MIND TO POSSIBILITIES\n \n Sign-up Today for a Table !!! Cost: $0.00*\n Includes: Three complimentary reservations. Additional Representatives: $25 per person. \n Your table must be manned from 5:30 - 9:00\n \n Be sure to thank and celebrate our Associate Members in a way \n that will really mean something to them - do business with them. * In order to receive the $0 price for 3 reservations\, you must sign-up for a table and the table must be manned from 5:30 to 8:30.
X-ALT-DESC;FMTTYPE=text/html:<p style="text-align: center"><span style="font-size: small"><strong><span id="1260910075706S" style="display: none">&nbsp\;</span>Wednesday<br /> MARCH 17\, 2010<br /> Lucien&rsquo\;s Manor\, 81 West White Horse Pike\, Berlin\, NJ</strong></span></p> <p><span style="font-size: small"><span id="fck_dom_range_temp_1260910074843_138" /></span></p> <p style="text-align: center"><span style="font-size: small"><br /> BUILDER REGISTRATION FORM</span></p> <p style="text-align: center"><span style="font-size: small">BRING YOUR PURCHASING AGENT\, SALES &amp\; MARKETING DIRECTOR\, <br /> AND OTHER DECISION MAKERS ON YOUR TEAM ... <br /> AND YOUR BUSINESS CARDS !</span></p> <p style="text-align: center"><span style="font-size: small">5:30 PM -&nbsp\;8:30 PM <br /> <strong><span style="color: #ff0000">&ldquo\;Speed Networking&rdquo\;</span></strong><br /> SPEED NETWORKING...THE FAST\, FUN AND GUARANTEED WAY <br /> FOR BUILDERS AND ASSOCIATES TO MEET<br /> &nbsp\;<br /> HERE&rsquo\;S HOW IT WORKS:<br /> &diams\; EACH ASSOCIATE GETS 3 MINUTES TO PRESENT THEMSELVES/THEIR COMPANY<br /> &diams\; CONSIDER THIS IS A PRE-MEETING\, THIS IS A RELAXED INFORMAL EVENT&hellip\;<br /> NO PRESSURE FOR YOU TO BUY ANYTHING<br /> &diams\; THIS IS A TIMED EVENT\, GIVING EVERYONE PRESENT AN OPPORTUNITY TO HAVE YOUR UNDIVIDED ATTENTION FOR 3 MINUTES<br /> &diams\; BRING YOUR PURCHASING AGENT/BUYER/SALES &amp\; MARKETING DIRECTOR<br /> &diams\; BE OPEN - AND RECEPTIVE TO A NEW SOURCE FOR PRODUCTS OR SERVICES<br /> &diams\; BE HONEST - IF THERE IS NOT A FIT FOR A FUTURE BUSINESS RELATIONSHIP\, SAY SO<br /> &diams\; BE SUPPORTIVE - ASSOCIATES ARE A VITAL PART OF OUR ASSOCIATION...SO KEEP AN OPEN MIND TO POSSIBILITIES<br /> <br /> Sign-up Today for a Table !!!</span></p> <p style="text-align: center"><span style="font-size: small">Cost: $0.00*<br /> Includes: Three complimentary reservations. Additional Representatives: $25 per person. <br /> Your table must be manned from 5:30 - 9:00<br /> <br /> Be sure to thank and celebrate our Associate Members in a way <br /> that will really mean something to them - do business with them.</span></p> <p style="text-align: center"><span style="font-size: small">* In order to receive the $0 price for 3 reservations\, you must sign-up for a table and the table must be manned from 5:30 to 8:30.<br /> <br /> <br /> &nbsp\;</span></p>
LOCATION:81 West White Horse Pike Berlin\, NJ 08009
UID:e.9292.640
SEQUENCE:3
DTSTAMP:20260421T193711Z
URL:https://members.blsj.com/events/details/meet-the-builder-speed-networking-2010-builder-registrations-03-17-2010-640
END:VEVENT

END:VCALENDAR
