BEGIN:VCALENDAR
VERSION:2.0
PRODID:-//ChamberMaster//Event Calendar 2.0//EN
METHOD:PUBLISH
X-PUBLISHED-TTL:P3D
REFRESH-INTERVAL:P3D
CALSCALE:GREGORIAN
BEGIN:VEVENT
DTSTART:20070328T220000Z
DTEND:20070328T160000Z
X-MICROSOFT-CDO-ALLDAYEVENT:FALSE
SUMMARY:MEET THE BUILDER NIGHT and Legal Defense Fund AUCTION/BUILDER
DESCRIPTION:GREAT OPPORTUNITY  FOR OUR BUILDER MEMBERS!! SAVE THE DATE! WEDNESDAY\, MARCH 28\, 2007 Event Begins: 5:30 p.m.  Crowne Plaza Hotel\, Route 70\, Cherry Hill\, NJ      "MEET THE BUILDERS NIGHT"    IS A SPECIAL OPPORTUNITY FOR OUR ASSOCIATE MEMBERS TO MEET YOU! (This is an Exclusive Members Only Event)!   BRING YOUR PURCHASING AGENTS\, MARKETING PEOPLE\, AND  OTHER MEMBERS OF YOUR ORGANIZATION (3 FREE TICKETS)   Meet and Network with other Builder members in the industry   Participate in a fun Lincoln Log "building competition"   NEW THIS YEAR SILENT & LIVE AUCTION TO BENEFIT THE BLSJ LEGAL DEFENSE FUND
X-ALT-DESC;FMTTYPE=text/html:<p class="MsoNormal" style="text-align: center\;"><span style="font-weight: bold\; font-size: 16pt\; font-family: Arial\;">GREAT OPPORTUNITY <o:p></o:p></span></p> <p class="MsoNormal" style="text-align: center\;"><span style="font-weight: bold\; font-size: 16pt\; font-family: Arial\;">FOR OUR BUILDER MEMBERS!!<o:p></o:p></span></p> <p class="MsoNormal" style="text-align: center\;"><span style="font-weight: bold\; font-size: 16pt\; font-family: Arial\;">SAVE THE DATE!<o:p></o:p></span></p> <p class="MsoNormal" style="text-align: center\;"><span style="font-weight: bold\; font-size: 14pt\; font-family: Arial\;">WEDNESDAY\, MARCH 28\, 2007<o:p></o:p></span></p> <p class="MsoNormal" style="text-align: center\;"><span style="font-weight: bold\; font-size: 14pt\; font-family: Arial\;">Event Begins: 5:30 p.m. <o:p></o:p></span></p> <p class="MsoNormal" style="text-align: center\;"><span style="font-weight: bold\; font-size: 14pt\; color: red\; font-family: Arial\;">Crowne Plaza Hotel\, Route 70\, Cherry Hill\, NJ</span></p> <p class="MsoNormal" style="text-align: center\;"><span style="font-weight: bold\; font-size: 14pt\; color: red\; font-family: Arial\;"><o:p></o:p></span></p> <p class="MsoNormal"><span><!--[if !supportEmptyParas]-->&nbsp\;&nbsp\; </span></p> <div align="center"><span style="font-weight: bold\; font-size: 16pt\; font-style: italic\;">&ldquo\;MEET THE BUILDERS NIGHT&rdquo\;&hellip\;</span></div> <div align="center">&nbsp\;</div> <div align="center"><span style="font-size: 14pt\;">IS A SPECIAL OPPORTUNITY FOR OUR</span></div> <div align="center"><span style="font-size: 14pt\;">ASSOCIATE MEMBERS TO MEET YOU!</span></div> <div align="center"><span style="font-size: 14pt\; font-style: italic\;">(This is an Exclusive Members Only Event)!</span></div> <div align="center">&nbsp\;</div> <div align="center"><span style="font-size: 14pt\;">BRING YOUR PURCHASING AGENTS\,</span></div> <div align="center"><span style="font-size: 14pt\;">MARKETING PEOPLE\, AND </span></div> <div align="center"><span style="font-size: 14pt\;">OTHER MEMBERS OF YOUR ORGANIZATION</span></div> <div align="center"><span style="font-weight: bold\; font-size: 14pt\;">(3 FREE TICKETS)</span></div> <div align="center">&nbsp\;</div> <div align="center"><span style="font-size: 14pt\;">Meet and Network with other Builder members in the industry</span></div> <div align="center">&nbsp\;</div> <div align="center"><span style="font-weight: bold\; font-size: 14pt\; font-style: italic\;">Participate in a fun Lincoln Log &ldquo\;building competition&rdquo\;</span></div> <div align="center">&nbsp\;</div> <div align="center"><span style="font-weight: bold\; font-size: 16pt\; color: red\; font-style: italic\; text-decoration: underline\;">NEW THIS YEAR</span></div> <div align="center"><span style="font-weight: bold\; font-size: 16pt\; color: red\; font-style: italic\; text-decoration: underline\;">SILENT &amp\; LIVE AUCTION</span></div> <div align="center"><span style="font-weight: bold\; font-size: 16pt\; color: red\; font-style: italic\; text-decoration: underline\;">TO BENEFIT THE BLSJ LEGAL DEFENSE FUND</span></div> <div align="center">&nbsp\;</div> <p class="MsoNormal"><!--[endif]--><o:p></o:p></p>
LOCATION:Crowne Plaza Hotel Route 70 Cherry Hill\, NJ 00000
UID:e.9292.378
SEQUENCE:3
DTSTAMP:20260422T075953Z
URL:https://members.blsj.com/events/details/meet-the-builder-night-and-legal-defense-fund-auction-builder-03-28-2007-378
END:VEVENT

END:VCALENDAR
