BEGIN:VCALENDAR
VERSION:2.0
PRODID:-//ChamberMaster//Event Calendar 2.0//EN
METHOD:PUBLISH
X-PUBLISHED-TTL:P3D
REFRESH-INTERVAL:P3D
CALSCALE:GREGORIAN
BEGIN:VEVENT
DTSTART:20070328T160000Z
DTEND:20070328T160000Z
X-MICROSOFT-CDO-ALLDAYEVENT:FALSE
SUMMARY:MEET THE BUILDER NIGHT and Legal Defense Fund AUCTION/Associate
DESCRIPTION:ATTENTION: ALL MEMBERS Don't miss this opportunity to meet our Builder members\, their purchasing agents\, marketing people and other members of their team in an informal atmosphere.   During the event\, Builder members will occupy tables around the room. You will have a chance to "Meet the Builder & their purchasing agent  The fun is in distributing your assortment of Lincoln Logs... Here's what you\, the Associate needs to do:  Visit each builder table\,  Give log pieces to the builder/agent (which will allow them to construct their house) So\, the more associate members they speak to\, the better chance they have to build the  Biggest\, most creative house possible & win valuable prizes! Remember\, the builder has to earn the Lincoln Logs by speaking to you.   This is one of the BIGGEST\, MOST FUN EVENTS OF THE YEAR!   ...Bring lots of your business cards!!!   Also\, During the event we will be holding a Silent Auction   Followed by a Live Auction   To Benefit the BLSJ Legal Defense Fund   Co-Hosted by    Peter Hovnanian\, J.S. Hovnanian & Sons & Michael Kurpiel\, Strober Building Supply
X-ALT-DESC;FMTTYPE=text/html:&nbsp\; <div align="center"><span style="FONT-WEIGHT: bold\; FONT-SIZE: 14pt\; language: EN">ATTENTION:</span></div> <div align="center"><span style="FONT-WEIGHT: bold\; FONT-SIZE: 14pt\; language: EN">ALL MEMBERS</span></div> <div align="center"><span style="FONT-SIZE: 12pt\; language: EN">Don&rsquo\;t miss this opportunity to meet our Builder members\, their purchasing agents\, marketing people and other members of their team in an informal atmosphere.</span></div> <div align="center">&nbsp\;</div> <div align="center"><span style="FONT-SIZE: 12pt\; language: EN">During the event\, Builder members will occupy tables around the room.</span></div> <div align="center"><span style="FONT-SIZE: 12pt\; language: EN">You will have a chance to &ldquo\;Meet the Builder &amp\; their purchasing agent&hellip\;</span></div> <div align="center"><span style="FONT-SIZE: 12pt\; language: EN">The fun is in distributing your assortment of Lincoln Logs...</span></div> <div align="center"><span style="FONT-SIZE: 12pt\; language: EN">Here&rsquo\;s what you\, the Associate needs to do:</span></div> <div align="center"><span style="FONT-SIZE: 12pt\; language: EN">&diams\;</span><span style="FONT-SIZE: 12pt\; language: EN">Visit each builder table\,</span></div> <div align="center"><span style="FONT-SIZE: 12pt\; language: EN">&diams\;</span><span style="FONT-SIZE: 12pt\; language: EN">Give log pieces to the builder/agent (which will allow them to construct their house)</span></div> <div align="center"><span style="FONT-SIZE: 12pt\; language: EN">So\, the more associate members they speak to\, the better chance they have to build the </span></div> <div align="center"><span style="FONT-SIZE: 12pt\; language: EN">Biggest\, most creative house possible &amp\; win valuable prizes!</span></div> <div align="center"><span style="FONT-SIZE: 12pt\; language: EN">Remember\, the builder has to earn the Lincoln Logs by speaking to you.</span></div> <div align="center">&nbsp\;</div> <div align="center"><span style="FONT-SIZE: 12pt\; language: EN">This is one of the BIGGEST\, MOST FUN EVENTS OF THE YEAR!</span></div> <div align="center">&nbsp\;</div> <div align="center"><span style="FONT-SIZE: 12pt\; language: EN">...</span><span style="FONT-WEIGHT: bold\; FONT-SIZE: 12pt\; FONT-STYLE: italic\; language: EN">Bring lots of your business cards!!!</span></div> <div align="center">&nbsp\;</div> <div align="center"><span style="FONT-SIZE: 12pt\; language: EN">Also\, During the event we will be holding a Silent Auction</span></div> <div align="center">&nbsp\;</div> <div align="center"><span style="FONT-SIZE: 12pt\; language: EN">Followed by a Live Auction</span></div> <div align="center">&nbsp\;</div> <div align="center"><span style="FONT-SIZE: 12pt\; language: EN">To Benefit the BLSJ Legal Defense Fund</span></div> <div align="center">&nbsp\;</div> <div align="center"><span style="FONT-SIZE: 12pt\; language: EN">Co-Hosted by </span></div> <div align="center">&nbsp\;</div> <div align="center"><span style="FONT-SIZE: 12pt\; language: EN">Peter Hovnanian\, J.S. Hovnanian &amp\; Sons</span></div> <div align="center"><span style="FONT-SIZE: 12pt\; language: EN">&amp\;</span></div> <div align="center"><span style="FONT-SIZE: 12pt\; language: EN">Michael Kurpiel\, Strober Building Supply</span></div> <div align="center">&nbsp\;</div>
LOCATION:Crowne Plaza Hotel Route 70 Cherry Hill\, NJ 00000
UID:e.9292.633
SEQUENCE:3
DTSTAMP:20260422T065516Z
URL:https://members.blsj.com/events/details/meet-the-builder-night-and-legal-defense-fund-auction-associate-03-28-2007-633
END:VEVENT

END:VCALENDAR
