BEGIN:VCALENDAR
VERSION:2.0
PRODID:-//ChamberMaster//Event Calendar 2.0//EN
METHOD:PUBLISH
X-PUBLISHED-TTL:P3D
REFRESH-INTERVAL:P3D
CALSCALE:GREGORIAN
BEGIN:VEVENT
DTSTART:20070313T160000Z
DTEND:20070313T220000Z
X-MICROSOFT-CDO-ALLDAYEVENT:FALSE
SUMMARY:Meet the Builder & Auction Sub-Committee meeting
DESCRIPTION:
X-ALT-DESC;FMTTYPE=text/html:
LOCATION:BLSJ Cherry hill\, NJ 08034
UID:e.9292.632
SEQUENCE:3
DTSTAMP:20260422T063725Z
URL:https://members.blsj.com/events/details/meet-the-builder-auction-sub-committee-meeting-03-13-2007-632
END:VEVENT

END:VCALENDAR
