BEGIN:VCALENDAR
VERSION:2.0
PRODID:-//ChamberMaster//Event Calendar 2.0//EN
METHOD:PUBLISH
X-PUBLISHED-TTL:P3D
REFRESH-INTERVAL:P3D
CALSCALE:GREGORIAN
BEGIN:VEVENT
DTSTART:20050203T230000Z
DTEND:20050203T170000Z
X-MICROSOFT-CDO-ALLDAYEVENT:FALSE
SUMMARY:Market Focused Residential Design
DESCRIPTION:Turn market research into home designs that really satisfy your customer's needs. You'll work with real buyer profiles and case studies to synthesize various types of market research & translate site data into actual site plan & architectural design. This exciting course is ideal for custom & production Builders.
X-ALT-DESC;FMTTYPE=text/html:Turn market research into home designs that really satisfy your customer's needs. You'll work with real buyer profiles and case studies to synthesize various types of market research & translate site data into actual site plan & architectural design. This exciting course is ideal for custom & production Builders.
LOCATION:Builders League of South Jersey Cherry Hill\, NJ 08034
UID:e.9292.377
SEQUENCE:3
DTSTAMP:20260420T210154Z
URL:https://members.blsj.com/events/details/market-focused-residential-design-02-03-2005-377
END:VEVENT

END:VCALENDAR
