BEGIN:VCALENDAR
VERSION:2.0
PRODID:-//ChamberMaster//Event Calendar 2.0//EN
METHOD:PUBLISH
X-PUBLISHED-TTL:P3D
REFRESH-INTERVAL:P3D
CALSCALE:GREGORIAN
BEGIN:VEVENT
DTSTART:20060823T160000Z
DTEND:20060823T160000Z
X-MICROSOFT-CDO-ALLDAYEVENT:FALSE
SUMMARY:MAME Sub-Committee Meeting - 08/23/2006
DESCRIPTION:
X-ALT-DESC;FMTTYPE=text/html:
LOCATION:\, NJ
UID:e.9292.1007
SEQUENCE:3
DTSTAMP:20260421T223412Z
URL:https://members.blsj.com/events/details/mame-sub-committee-meeting-08-23-2006-08-23-2006-1007
END:VEVENT

END:VCALENDAR
