BEGIN:VCALENDAR
VERSION:2.0
PRODID:-//ChamberMaster//Event Calendar 2.0//EN
METHOD:PUBLISH
X-PUBLISHED-TTL:P3D
REFRESH-INTERVAL:P3D
CALSCALE:GREGORIAN
BEGIN:VEVENT
DTSTART:20100513T220000Z
DTEND:20100513T160000Z
X-MICROSOFT-CDO-ALLDAYEVENT:FALSE
SUMMARY:MAME SUB-COMMITTEE MEETING - 05/13/2010
DESCRIPTION:Review 2010 MAME CALL FOR ENTRIES & SPONSORSHIPS
X-ALT-DESC;FMTTYPE=text/html:<p>Review 2010 MAME CALL FOR ENTRIES &amp\; SPONSORSHIPS</p>
LOCATION:114 Haddontowne Court Cherry Hill\, NJ 08034
UID:e.9292.1291
SEQUENCE:3
DTSTAMP:20260421T152235Z
URL:https://members.blsj.com/events/details/mame-sub-committee-meeting-05-13-2010-05-13-2010-1291
END:VEVENT

END:VCALENDAR
