BEGIN:VCALENDAR
VERSION:2.0
PRODID:-//ChamberMaster//Event Calendar 2.0//EN
METHOD:PUBLISH
X-PUBLISHED-TTL:P3D
REFRESH-INTERVAL:P3D
CALSCALE:GREGORIAN
BEGIN:VEVENT
DTSTART:20060929T160000Z
DTEND:20060929T160000Z
X-MICROSOFT-CDO-ALLDAYEVENT:FALSE
SUMMARY:MAME CALL FOR ENTRIES DEADLINE - 09/29/2006
DESCRIPTION:The 2006 MAME Awards will recognize "the best of the best" in approximately 75 categories.  Each entry will be judged on its merits by a panel of qualified judges who are recognized for their expertise in the home building and related industries and who are without conflict of interest.   \n \n MAME Entry forms are available online at www.mame2006.com All MAME entries must be in the BLSJ Office no later than September 29\, 2006 at 5:00 p.m.  Return payment and completed entries to:                                  Builders League of South Jersey                 114 Haddontowne Court                 Cherry Hill\, NJ  08034-3699
X-ALT-DESC;FMTTYPE=text/html:<p align="center"><span style="FONT-SIZE: 10pt\; FONT-FAMILY: Times\; mso-fareast-font-family: Times\; mso-bidi-font-family: Â’Times New RomanÂ’\; mso-ansi-language: EN-US\; mso-fareast-language: EN-US\; mso-bidi-language: AR-SA">The <strong style="mso-bidi-font-weight: normal">2006 MAME Awards</strong> will recognize &ldquo\;the best of the best&rdquo\; in approximately 75 categories.<span style="mso-spacerun: yes">&nbsp\; </span>Each entry will be judged on its merits by a panel of qualified judges who are recognized for their expertise in the home building and related industries and who are without conflict of interest.<span style="mso-spacerun: yes">&nbsp\;&nbsp\;&nbsp\;<br /> <br /> <strong><font color="#ff0000">MAME Entry forms are available online at </font></strong><a href="http://www.mame2006.com"><strong><font color="#ff0000">www.mame2006.com</font></strong></a></span></span></p> <p class="MsoBodyText2" style="MARGIN: 0in 0in 0pt"><span style="FONT-WEIGHT: normal\; FONT-SIZE: 10pt\; COLOR: black"><font face="Times New Roman">All MAME entries must be in the BLSJ Office no later than September 29\, 2006 at 5:00 p.m.<span style="mso-spacerun: yes">&nbsp\; </span>Return payment and completed entries to:<o:p></o:p></font></span></p> <p class="MsoNormal" style="MARGIN: 0in 0in 0pt"><span style="FONT-SIZE: 10pt\; COLOR: black"><span style="mso-tab-count: 1">&nbsp\;&nbsp\;&nbsp\;&nbsp\;&nbsp\;&nbsp\;&nbsp\;&nbsp\;&nbsp\;&nbsp\;&nbsp\;&nbsp\;&nbsp\;&nbsp\;&nbsp\; </span><o:p></o:p></span></p> <p class="MsoNormal" style="MARGIN: 0in 0in 0pt"><strong style="mso-bidi-font-weight: normal"><span style="FONT-SIZE: 10pt\; COLOR: black"><span style="mso-tab-count: 1">&nbsp\;&nbsp\;&nbsp\;&nbsp\;&nbsp\;&nbsp\;&nbsp\;&nbsp\;&nbsp\;&nbsp\;&nbsp\;&nbsp\;&nbsp\;&nbsp\;&nbsp\; </span>Builders League of <st1:place w:st="on">South Jersey</st1:place><o:p></o:p></span></strong></p> <p class="MsoNormal" style="MARGIN: 0in 0in 0pt"><strong style="mso-bidi-font-weight: normal"><span style="FONT-SIZE: 10pt\; COLOR: black"><span style="mso-tab-count: 1">&nbsp\;&nbsp\;&nbsp\;&nbsp\;&nbsp\;&nbsp\;&nbsp\;&nbsp\;&nbsp\;&nbsp\;&nbsp\;&nbsp\;&nbsp\;&nbsp\;&nbsp\; </span><st1:street w:st="on"><st1:address w:st="on">114 Haddontowne Court</st1:address></st1:street><o:p></o:p></span></strong></p> <p class="MsoNormal" style="MARGIN: 0in 0in 0pt"><strong style="mso-bidi-font-weight: normal"><span style="FONT-SIZE: 10pt\; COLOR: black"><span style="mso-tab-count: 1">&nbsp\;&nbsp\;&nbsp\;&nbsp\;&nbsp\;&nbsp\;&nbsp\;&nbsp\;&nbsp\;&nbsp\;&nbsp\;&nbsp\;&nbsp\;&nbsp\;&nbsp\; </span><st1:place w:st="on"><st1:city w:st="on">Cherry Hill</st1:city>\, <st1:state w:st="on">NJ</st1:state><span style="mso-spacerun: yes">&nbsp\; </span><st1:postalcode w:st="on">08034-3699</st1:postalcode></st1:place><o:p></o:p></span></strong></p> <p align="left">&nbsp\;</p>
LOCATION:\, NJ
UID:e.9292.623
SEQUENCE:3
DTSTAMP:20260421T223326Z
URL:https://members.blsj.com/events/details/mame-call-for-entries-deadline-09-29-2006-09-29-2006-623
END:VEVENT

END:VCALENDAR
