BEGIN:VCALENDAR
VERSION:2.0
PRODID:-//ChamberMaster//Event Calendar 2.0//EN
METHOD:PUBLISH
X-PUBLISHED-TTL:P3D
REFRESH-INTERVAL:P3D
CALSCALE:GREGORIAN
BEGIN:VEVENT
DTSTART:20051109T170000Z
DTEND:20051109T170000Z
X-MICROSOFT-CDO-ALLDAYEVENT:FALSE
SUMMARY:MAME Awards Gala Banquet & Awards Presentation
DESCRIPTION:Please join the Sales and Marketing Council of the Builders League of South Jersey on Wednesday\, November 9\, 2005 at the Enterprise Center at Burlington County College for the MAME (Major Achievements in Marketing Excellence) Awards.  In lieu of traditional dining we invite you to stroll the promenade from 6:00 p.m. - 7:30 p.m. and enjoy an elegant and abundant selection of festive fare along with cocktails reminiscient of the Roaring Twenties.  Awards Presentation begins at 7:30 p.m.
X-ALT-DESC;FMTTYPE=text/html:Please join the Sales and Marketing Council of the Builders League of South Jersey on Wednesday\, November 9\, 2005 at the Enterprise Center at Burlington County College for the MAME (Major Achievements in Marketing Excellence) Awards.  In lieu of traditional dining we invite you to stroll the promenade from 6:00 p.m. - 7:30 p.m. and enjoy an elegant and abundant selection of festive fare along with cocktails reminiscient of the Roaring Twenties.  Awards Presentation begins at 7:30 p.m.
LOCATION:Enterprise Center at Burlington County College 3331 Route 38 Mt. Laurel\, NJ 08054
UID:e.9292.1006
SEQUENCE:3
DTSTAMP:20260421T083728Z
URL:https://members.blsj.com/events/details/mame-awards-gala-banquet-awards-presentation-11-09-2005-1006
END:VEVENT

END:VCALENDAR
