BEGIN:VCALENDAR
VERSION:2.0
PRODID:-//ChamberMaster//Event Calendar 2.0//EN
METHOD:PUBLISH
X-PUBLISHED-TTL:P3D
REFRESH-INTERVAL:P3D
CALSCALE:GREGORIAN
BEGIN:VEVENT
DTSTART:20031112T170000Z
DTEND:20031112T170000Z
X-MICROSOFT-CDO-ALLDAYEVENT:FALSE
SUMMARY:MAME AWARDS - 11/12/2003
DESCRIPTION:
X-ALT-DESC;FMTTYPE=text/html:
LOCATION:\, NJ
UID:e.9292.620
SEQUENCE:3
DTSTAMP:20260420T013805Z
URL:https://members.blsj.com/events/details/mame-awards-11-12-2003-11-12-2003-620
END:VEVENT

END:VCALENDAR
