BEGIN:VCALENDAR
VERSION:2.0
PRODID:-//ChamberMaster//Event Calendar 2.0//EN
METHOD:PUBLISH
X-PUBLISHED-TTL:P3D
REFRESH-INTERVAL:P3D
CALSCALE:GREGORIAN
BEGIN:VEVENT
DTSTART:20061108T170000Z
DTEND:20061108T170000Z
X-MICROSOFT-CDO-ALLDAYEVENT:FALSE
SUMMARY:MAME Awards - 11/08/2006
DESCRIPTION:THE 2006 MAME AWARDS ARE  TONIGHT... COCKTAIL HOUR STARTS AT 5:00 PM AWARDS PROGRAM STARTS AT 6:00 PM Major Achievements in Marketing Excellence (MAME) Join us at the Collingswood Theatre and Auditorium on the White Horse Pike (Route 30) Wednesday\, November 8th
X-ALT-DESC;FMTTYPE=text/html:<p align="center"><strong>THE 2006 MAME AWARDS ARE&nbsp\; TONIGHT...</strong></p> <p align="center"><strong>COCKTAIL HOUR STARTS AT 5:00 PM</strong></p> <p align="center"><strong>AWARDS PROGRAM STARTS AT 6:00 PM</strong></p> <p align="center">Major Achievements in Marketing Excellence (MAME) Join us at the Collingswood Theatre and Auditorium on the White Horse Pike (Route 30) Wednesday\, November 8th </p>
LOCATION:Collingswood Theatre and Auditorium 315 White Horse Pike Collingswood\, NJ 00000
UID:e.9292.621
SEQUENCE:3
DTSTAMP:20260422T011036Z
URL:https://members.blsj.com/events/details/mame-awards-11-08-2006-11-08-2006-621
END:VEVENT

END:VCALENDAR
