BEGIN:VCALENDAR
VERSION:2.0
PRODID:-//ChamberMaster//Event Calendar 2.0//EN
METHOD:PUBLISH
X-PUBLISHED-TTL:P3D
REFRESH-INTERVAL:P3D
CALSCALE:GREGORIAN
BEGIN:VEVENT
DTSTART:20100204T230000Z
DTEND:20100204T170000Z
X-MICROSOFT-CDO-ALLDAYEVENT:FALSE
SUMMARY:Looking to Save Money$$$ New NJBA Member Incentive Programs Working to SAVE YOU MONEY!
DESCRIPTION:LOOKING TO SAVE MONEY?? DID YOU KNOW NJBA HAS THREE NEW WAYS TO HELP MEMBERS DO SO? \n On February 4th at 8:30am BLSJ will host a special NO COST seminar that introduces \n * THE BUILDER LIABILITY INSURANCE PROGRAM * AN NJBA MEMBER ONLY DENTAL PROGRAM * NJBA MEMBER REBATE PROGRAM   These new NJBA Member Incentive Programs are now available to all NJBA member companies. Each has been specially designed to provide specific value for your membership dollars. Join us at the seminar and find out how your BLSJ membership is working to save you money!!   \n WHERE: BLSJ Office\n WHEN: Thursday\, February 4\, 2010\n TIME: 8:30am to 10:00am \n Presenters: George Griffaton\, The Stettler Group Anthony Bevilacqua\, Anthony & Company Richard Robinson\, NJBA Member Rebate Program
X-ALT-DESC;FMTTYPE=text/html:<p style="text-align: center"><span style="font-size: small"><span><strong><span style="color: #ff0000">LOOKING TO SAVE MONEY??</span></strong></span></span><span style="font-size: x-small" /></p> <p style="text-align: center"><span style="font-size: small"><strong><span style="color: #ff0000">DID YOU KNOW NJBA HAS THREE NEW WAYS TO HELP MEMBERS DO SO?</span></strong></span></p> <p style="text-align: center"><span style="font-size: x-small"><br /> </span><span style="font-size: small"><span>On February&nbsp\;4th at 8:30am&nbsp\;BLSJ will host a special NO COST seminar that introduces</span></span></p> <p style="text-align: center"><br /> <span style="color: #ff0000"><strong><span style="font-size: small">* THE BUILDER LIABILITY INSURANCE PROGRAM</span></strong></span></p> <p style="text-align: center"><span style="color: #ff0000"><strong><span style="font-size: small">* AN NJBA MEMBER ONLY DENTAL PROGRAM</span></strong></span></p> <p style="text-align: center"><span style="color: #ff0000"><strong><span style="font-size: small">* NJBA MEMBER REBATE PROGRAM</span></strong></span></p> <p style="text-align: center">&nbsp\;</p> <p style="text-align: center"><span style="font-size: small">These new NJBA Member Incentive Programs are now available to all NJBA member companies. Each has been specially designed to provide specific value for your membership dollars. Join us at the seminar and find out how your&nbsp\;BLSJ membership is working to save you money!!</span></p> <p style="text-align: center">&nbsp\;</p> <p style="text-align: center"><span style="font-size: small"><br /> WHERE: BLSJ Office<br /> WHEN: Thursday\, February 4\, 2010<br /> TIME: 8:30am to 10:00am</span></p> <p style="text-align: center"><br /> <span style="font-size: small">Presenters: George Griffaton\, The Stettler Group</span></p> <p style="text-align: center"><span style="font-size: small">Anthony Bevilacqua\, Anthony &amp\; Company</span></p> <p style="text-align: center"><span style="font-size: small">Richard Robinson\, NJBA Member Rebate Program</span></p> <p style="text-align: center"><br /> &nbsp\;</p>
LOCATION:114 Haddontowne Court Cherry Hill\, NJ 08034
UID:e.9292.1005
SEQUENCE:3
DTSTAMP:20260421T194351Z
URL:https://members.blsj.com/events/details/looking-to-save-money-new-njba-member-incentive-programs-working-to-save-you-money-02-04-2010-1005
END:VEVENT

END:VCALENDAR
