BEGIN:VCALENDAR
VERSION:2.0
PRODID:-//ChamberMaster//Event Calendar 2.0//EN
METHOD:PUBLISH
X-PUBLISHED-TTL:P3D
REFRESH-INTERVAL:P3D
CALSCALE:GREGORIAN
BEGIN:VEVENT
DTSTART:20090709T160000Z
DTEND:20090709T160000Z
X-MICROSOFT-CDO-ALLDAYEVENT:FALSE
SUMMARY:LIVING GREEN HOME EXPO - COMMITTEE MEETING CANCELLED
DESCRIPTION:PLEASE NOTE THE COMMITTEE MEETING FOR JULY 9th HAS BEEN CANCELLED  Committee Co-Chairs: Victor Coppola\; Patrick Kane\; Elyce O'Malley AGENDA: 1. Conflict of Interest Statement\n 2. BLSJ Mission Statement\n 3. Sub-Committee Reports:\n     a. Seminars/Educational Break-out Sessions (V. Coppola) (S. Cappuccio) (CJ Roberts)\n     b. Sponsorship/Ad Sales (L. Campbell) (D. Robinson)\n     c. PR/Communications Plan (M. Danielsen)\n     d. Vendor Booth Sales (E. O'Malley)\n     e. Advertising Sales\n     f. Web Site \n    g. Intern (S. Cappuccio) \n 4. Old Business/New Business
X-ALT-DESC;FMTTYPE=text/html:<p><span style="font-size: small"><strong><span style="color: #ff0000">PLEASE NOTE THE COMMITTEE MEETING FOR JULY 9th HAS BEEN CANCELLED </span></strong></span></p> <p>Committee Co-Chairs: Victor Coppola\; Patrick Kane\; Elyce O&rsquo\;Malley</p> <p>AGENDA:</p> <p>1.&nbsp\;Conflict of Interest Statement<br /> 2. BLSJ Mission Statement<br /> 3. Sub-Committee Reports:<br /> &nbsp\;&nbsp\;&nbsp\; a. Seminars/Educational Break-out Sessions (V. Coppola) (S. Cappuccio) (CJ Roberts)<br /> &nbsp\;&nbsp\;&nbsp\; b. Sponsorship/Ad Sales&nbsp\;(L. Campbell)&nbsp\;(D. Robinson)<br /> &nbsp\;&nbsp\;&nbsp\; c. PR/Communications Plan (M. Danielsen)<br /> &nbsp\;&nbsp\;&nbsp\; d. Vendor Booth Sales (E. O&rsquo\;Malley)<br /> &nbsp\;&nbsp\;&nbsp\; e. Advertising Sales<br /> &nbsp\;&nbsp\;&nbsp\; f. Web Site <br /> &nbsp\;&nbsp\; g. Intern (S. Cappuccio) <br /> 4. Old Business/New Business</p>
LOCATION:114 Haddontowne Court Cherry Hill\, NJ 08034
UID:e.9292.603
SEQUENCE:3
DTSTAMP:20260422T053913Z
URL:https://members.blsj.com/events/details/living-green-home-expo-committee-meeting-cancelled-07-09-2009-603
END:VEVENT

END:VCALENDAR
