BEGIN:VCALENDAR
VERSION:2.0
PRODID:-//ChamberMaster//Event Calendar 2.0//EN
METHOD:PUBLISH
X-PUBLISHED-TTL:P3D
REFRESH-INTERVAL:P3D
CALSCALE:GREGORIAN
BEGIN:VEVENT
DTSTART:20090827T160000Z
DTEND:20090827T160000Z
X-MICROSOFT-CDO-ALLDAYEVENT:FALSE
SUMMARY:LIVING GREEN HOME EXPO COMMITTEE MEETING - 08/27/2009
DESCRIPTION:
X-ALT-DESC;FMTTYPE=text/html:<p><br /> &nbsp\;</p> <p>&nbsp\;</p>
LOCATION:114 Haddontowne Court Cherry Hill\, NJ 08034
UID:e.9292.1249
SEQUENCE:3
DTSTAMP:20260422T040421Z
URL:https://members.blsj.com/events/details/living-green-home-expo-committee-meeting-08-27-2009-08-27-2009-1249
END:VEVENT

END:VCALENDAR
