BEGIN:VCALENDAR
VERSION:2.0
PRODID:-//ChamberMaster//Event Calendar 2.0//EN
METHOD:PUBLISH
X-PUBLISHED-TTL:P3D
REFRESH-INTERVAL:P3D
CALSCALE:GREGORIAN
BEGIN:VEVENT
DTSTART:20090618T160000Z
DTEND:20090618T160000Z
X-MICROSOFT-CDO-ALLDAYEVENT:FALSE
SUMMARY:LIVING GREEN HOME EXPO COMMITTEE MEETING - 06/18/2009
DESCRIPTION:Committee Co-Chairs: Victor Coppola\; Patrick Kane\; Elyce O'Malley NOTE: THIS COMMITTEE MEETING IS BEING HELD AT THE ENTERPRISE CENTER DIRECTIONS: Click here AGENDA: 1. Conflict of Interest Statement\n 2. BLSJ Mission Statement\n 3. Sub-Committee Reports:\n     a. Seminars/Educational Break-out Sessions (V. Coppola) (S. Cappuccio) (CJ Roberts)\n     b. Sponsorship/Ad Sales (L. Campbell) (D. Robinson)\n     c. PR/Communications Plan (M. Danielsen)\n     d. Vendor Booth Sales (E. O'Malley)\n     e. Advertising Sales (S. Cappuccio) (V. Coppola) (D. Robinson)\n     f. Web Site \n         1. Domain name reserved: livinggreenhomeexpo.com\n    g. Intern (S. Cappuccio) \n 4. Old Business/New Business
X-ALT-DESC;FMTTYPE=text/html:<p>Committee Co-Chairs: Victor Coppola\; Patrick Kane\; Elyce O&rsquo\;Malley</p> <p>NOTE: THIS COMMITTEE MEETING IS BEING HELD AT THE ENTERPRISE CENTER</p> <p>DIRECTIONS: <a href="https://blsj-nj.builderfusion.com/bf/messaging/E-Center%20Directions.doc">Click here</a></p> <p>AGENDA:</p> <p>1.&nbsp\;Conflict of Interest Statement<br /> 2. BLSJ Mission Statement<br /> 3. Sub-Committee Reports:<br /> &nbsp\;&nbsp\;&nbsp\; a. Seminars/Educational Break-out Sessions (V. Coppola) (S. Cappuccio) (CJ Roberts)<br /> &nbsp\;&nbsp\;&nbsp\; b. Sponsorship/Ad Sales&nbsp\;(L. Campbell)&nbsp\;(D. Robinson)<br /> &nbsp\;&nbsp\;&nbsp\; c. PR/Communications Plan (M. Danielsen)<br /> &nbsp\;&nbsp\;&nbsp\; d. Vendor Booth Sales (E. O&rsquo\;Malley)<br /> &nbsp\;&nbsp\;&nbsp\; e. Advertising Sales (S. Cappuccio) (V. Coppola) (D. Robinson)<br /> &nbsp\;&nbsp\;&nbsp\; f. Web Site&nbsp\;<br /> &nbsp\;&nbsp\;&nbsp\;&nbsp\;&nbsp\;&nbsp\;&nbsp\; 1. Domain name reserved: livinggreenhomeexpo.com<br /> &nbsp\;&nbsp\; g. Intern (S. Cappuccio) <br /> 4. Old Business/New Business</p>
LOCATION:3331 Route 38 Mt. Laurel\, NJ 00000
UID:e.9292.1004
SEQUENCE:3
DTSTAMP:20260422T064220Z
URL:https://members.blsj.com/events/details/living-green-home-expo-committee-meeting-06-18-2009-06-18-2009-1004
END:VEVENT

END:VCALENDAR
