BEGIN:VCALENDAR
VERSION:2.0
PRODID:-//ChamberMaster//Event Calendar 2.0//EN
METHOD:PUBLISH
X-PUBLISHED-TTL:P3D
REFRESH-INTERVAL:P3D
CALSCALE:GREGORIAN
BEGIN:VEVENT
DTSTART:20070321T220000Z
DTEND:20070321T220000Z
X-MICROSOFT-CDO-ALLDAYEVENT:FALSE
SUMMARY:Legislative Breakfast - Sold Out
DESCRIPTION:Annual Legislative Breakfast of the Builders League of South Jersey.\n Featured Speaker: Jeffrey Otteau\, Otteau Appraisal Group  This is your opportunity to meet our guests for this breakfast meeting\, the legislators from Districts 1 through 8 and District 30.   In addition to networking with our legislators\, this year we have invited Jeff Otteau\, President of the Otteau Appraisal Group to give a brief overview of the New Jersey housing market for 2007.    Mr. Otteau is widely quoted in the media on the housing market and will report on housing affordability\, redevelopment\, the vacation home market and new and resale home prices.       2007 New Jersey Housing Forecast  Housing Market Assessment                                   Winter Housing Market Update                        NJ Housing Affordability                                        Implications for New Construction            Market Forecast                                       Open Question & Answer Forum   Be sure and contact your legislators and get his or her commitment to attend this important meeting.
X-ALT-DESC;FMTTYPE=text/html:<p align="center">Annual Legislative Breakfast of the Builders League of South Jersey.<br /> Featured Speaker: Jeffrey Otteau\, Otteau Appraisal Group </p> <div align="center" style="margin: 0in 0in 0pt\;">This is your opportunity to meet our guests for this breakfast meeting\, the legislators from Districts 1 through 8 and District 30.</div> <div style="margin: 0in 0in 0pt\;">&nbsp\;</div> <div style="margin: 0in 0in 0pt\;">In addition to networking with our legislators\, this year we have invited Jeff Otteau\, President of the Otteau Appraisal Group to give a brief overview of the New Jersey housing market for 2007.&nbsp\;</div> <div style="margin: 0in 0in 0pt\;">&nbsp\;</div> <div style="margin: 0in 0in 0pt\;">Mr. Otteau is widely quoted in the media on the housing market and will report on housing affordability\, redevelopment\, the vacation home market and new and resale home prices.<span>&nbsp\;&nbsp\; </span></div> <div style="margin: 0in 0in 0pt\;">&nbsp\;</div> <div align="center" style="margin: 0in 0in 0pt\;"><span style="font-size: 14pt\; color: black\;">&nbsp\;2007 New Jersey Housing Forecast</span></div> <p align="center" style="margin: 0in 0in 0pt\;"><span style="font-size: 16pt\; color: black\;">&#1048708\;</span><span style="font-size: 14pt\; color: black\;">Housing Market Assessment</span></p> <div align="center" style="margin: 0in 0in 0pt\;"><span style="font-size: 14pt\; color: black\;">&nbsp\;&nbsp\;&nbsp\;&nbsp\;&nbsp\;&nbsp\;&nbsp\;&nbsp\;&nbsp\;&nbsp\;&nbsp\;&nbsp\;&nbsp\;&nbsp\;&nbsp\;&nbsp\;&nbsp\;&nbsp\;&nbsp\;&nbsp\;&nbsp\;&nbsp\;&nbsp\;&nbsp\;&nbsp\;&nbsp\;&nbsp\;&nbsp\;&nbsp\;&nbsp\;&nbsp\;&nbsp\; &#1048708\;</span><span style="font-size: 14pt\; color: black\;">Winter Housing Market Update</span></div> <div align="center" style="margin: 0in 0in 0pt\;"><span style="font-size: 14pt\; color: black\;">&nbsp\;&nbsp\;&nbsp\;&nbsp\;&nbsp\;&nbsp\;&nbsp\;&nbsp\;&nbsp\;&nbsp\;&nbsp\;&nbsp\;&nbsp\;&nbsp\;&nbsp\;&nbsp\;&nbsp\;&nbsp\;&nbsp\;&nbsp\;&nbsp\; &#1048708\;</span><span style="font-size: 14pt\; color: black\;">NJ Housing Affordability</span></div> <div align="center" style="margin: 0in 0in 0pt\;"><span style="font-size: 14pt\; color: black\;">&nbsp\;&nbsp\;&nbsp\;&nbsp\;&nbsp\;&nbsp\;&nbsp\;&nbsp\;&nbsp\;&nbsp\;&nbsp\;&nbsp\;&nbsp\;&nbsp\;&nbsp\;&nbsp\;&nbsp\;&nbsp\;&nbsp\;&nbsp\;&nbsp\;&nbsp\;&nbsp\;&nbsp\;&nbsp\;&nbsp\;&nbsp\;&nbsp\;&nbsp\;&nbsp\;&nbsp\;&nbsp\;&nbsp\;&nbsp\;&nbsp\;&nbsp\;&nbsp\; &#1048708\;</span><span style="font-size: 14pt\; color: black\;">Implications for New Construction</span></div> <div align="center" style="margin: 0in 0in 0pt\;"><span style="font-size: 14pt\; color: black\;">&nbsp\;&nbsp\;&nbsp\;&nbsp\;&nbsp\;&nbsp\;&nbsp\;&nbsp\;&nbsp\; &#1048708\;</span><span style="font-size: 14pt\; color: black\;">Market Forecast</span></div> <div align="center" style="margin: 0in 0in 0pt\;"><span style="font-size: 14pt\; color: black\;">&nbsp\;&nbsp\;&nbsp\;&nbsp\;&nbsp\;&nbsp\;&nbsp\; &nbsp\;&nbsp\;&nbsp\;&nbsp\;&nbsp\;&nbsp\;&nbsp\;&nbsp\;&nbsp\;&nbsp\;&nbsp\;&nbsp\;&nbsp\;&nbsp\;&nbsp\;&nbsp\;&nbsp\;&nbsp\;&nbsp\;&nbsp\;&nbsp\;&nbsp\;&nbsp\;&nbsp\;&nbsp\;&nbsp\;&nbsp\;&nbsp\;&#1048708\;</span><span style="font-size: 14pt\; color: black\;"> Open Question &amp\; Answer Forum</span></div> <div align="center" style="margin: 0in 0in 0pt\;">&nbsp\;</div> <div align="center" style="margin: 0in 0in 0pt\;"><span style="font-size: 14pt\;">Be sure and contact your legislators and get his or her commitment to attend this important meeting.</span></div> <div align="center" style="margin: 0in 0in 0pt\; text-align: center\;">&nbsp\;</div>
LOCATION:Mt. Laurel Marriott Route 73 Mt. Laurel\, NJ 08054
UID:e.9292.338
SEQUENCE:3
DTSTAMP:20260422T063105Z
URL:https://members.blsj.com/events/details/legislative-breakfast-sold-out-03-21-2007-338
END:VEVENT

END:VCALENDAR
