BEGIN:VCALENDAR
VERSION:2.0
PRODID:-//ChamberMaster//Event Calendar 2.0//EN
METHOD:PUBLISH
X-PUBLISHED-TTL:P3D
REFRESH-INTERVAL:P3D
CALSCALE:GREGORIAN
BEGIN:VEVENT
DTSTART:20100915T220000Z
DTEND:20100915T160000Z
X-MICROSOFT-CDO-ALLDAYEVENT:FALSE
SUMMARY:LEGISLATIVE BREAKFAST & SEPTEMBER GENERAL MEMBERSHIP MEETING
DESCRIPTION:PLEASE JOIN US AT THE 2010 ANNUAL BLSJ LEGISLATIVE BREAKFAST On September 15th NAHB Economist Extraordinaire\, Dr. Elliot Eisenberg\, will be the\n featured speaker for the Legislative Breakfast presented by the Builders League of South Jersey. Dr. Eisenberg will be speaking on: "The Unintended Consequences of\n Government Regulations\n On Housing and the Economy" If you have seen Elliot speak before then you know you are in for a great time.\n If you have never seen him then this is your chance to see an economist who makes\n this stuff fun! WEDNESDAY\, SEPTEMBER 15\, 2010\n TIME: 8:30 A.M.\n LOCATION: THE WESTIN MT. LAUREL\n ROUTE 73 & FELLOWSHIP ROAD\n   Elliot Eisenberg is a Senior Economist with the National Association of Homebuilders (NAHB) in Washington\, D.C. He holds a Bachelor of Arts degree in economics with First Class Honors from McGill University as well as a Masters of Public Administration degree and a Ph.D. in Public Administration from Syracuse University. As a public speaker on housing and housing related topics\, Dr\, Eisenberg speaks to the:\n   Economic impact of homebuilding\n   Impact of zoning on house prices\n   Residential fire safety and investment strategies\n   Using housing options and futures\n \n Dr. Eisenberg is the creator of the multifamily stock index and author of more than 50 homebuilding articles. \n A frequent speaker on television and radio he is also a frequently published author in acclaimed periodicals such as Business Week\, Fortune and others.
X-ALT-DESC;FMTTYPE=text/html:<p style="text-align: center"><strong>PLEASE JOIN US AT THE 2010 ANNUAL BLSJ LEGISLATIVE BREAKFAST</strong></p> <p style="text-align: center"><strong><span style="font-size: x-small">On September 15th NAHB Economist Extraordinaire\, Dr. Elliot Eisenberg\, will be the<br /> featured speaker for the Legislative Breakfast presented by the Builders League of South Jersey.</span></strong></p> <p style="text-align: center"><em>Dr. Eisenberg will be speaking on:</em></p> <p style="text-align: center"><strong><span style="font-size: small">&ldquo\;The Unintended Consequences of<br /> Government Regulations<br /> On Housing and the Economy&rdquo\;</span></strong></p> <p style="text-align: center">If you have seen Elliot speak before then you know you are in for a great time.<br /> If you have never seen him then this is your chance to see an economist who makes<br /> this stuff fun!</p> <p style="text-align: center">WEDNESDAY\, SEPTEMBER 15\, 2010<br /> TIME: 8:30 A.M.<br /> LOCATION: THE WESTIN MT. LAUREL<br /> ROUTE 73 &amp\; FELLOWSHIP ROAD<br /> &nbsp\;</p> <p style="text-align: center"><strong>Elliot Eisenberg</strong> is a Senior Economist with the National Association of Homebuilders (NAHB) in Washington\, D.C. He holds a Bachelor of Arts degree in economics with First Class Honors from McGill University as well as a Masters of Public Administration degree and a Ph.D. in Public Administration from Syracuse University.</p> <p>As a public speaker on housing and housing related topics\, Dr\, Eisenberg speaks to the:<br /> &bull\; Economic impact of homebuilding<br /> &bull\; Impact of zoning on house prices<br /> &bull\; Residential fire safety and investment strategies<br /> &bull\; Using housing options and futures<br /> <br /> Dr. Eisenberg is the creator of the multifamily stock index and author of more than 50 homebuilding articles. <br /> A frequent speaker on television and radio he is also a frequently published author in acclaimed periodicals such as Business Week\, Fortune and others.<br /> &nbsp\;</p>
LOCATION:Fellowship Road & Route 73 Mt. Laurel\, NJ 08054
UID:e.9292.337
SEQUENCE:3
DTSTAMP:20260421T092822Z
URL:https://members.blsj.com/events/details/legislative-breakfast-september-general-membership-meeting-09-15-2010-337
END:VEVENT

END:VCALENDAR
