BEGIN:VCALENDAR
VERSION:2.0
PRODID:-//ChamberMaster//Event Calendar 2.0//EN
METHOD:PUBLISH
X-PUBLISHED-TTL:P3D
REFRESH-INTERVAL:P3D
CALSCALE:GREGORIAN
BEGIN:VEVENT
DTSTART:20100408T160000Z
DTEND:20100408T160000Z
X-MICROSOFT-CDO-ALLDAYEVENT:FALSE
SUMMARY:LEADERSHIP DEVELOPMENT:COMMITTEE/MEMBERSHIP ROUND TABLE
DESCRIPTION:Normal 0   false false false        MicrosoftInternetExplorer4         /* Style Definitions */ table.MsoNormalTable {mso-style-name:"Table Normal"\; mso-tstyle-rowband-size:0\; mso-tstyle-colband-size:0\; mso-style-noshow:yes\; mso-style-parent:""\; mso-padding-alt:0in 5.4pt 0in 5.4pt\; mso-para-margin:0in\; mso-para-margin-bottom:.0001pt\; mso-pagination:widow-orphan\; font-size:10.0pt\; font-family:"Times New Roman"\; mso-ansi-language:#0400\; mso-fareast-language:#0400\; mso-bidi-language:#0400\;}          Normal 0   false false false        MicrosoftInternetExplorer4         /* Style Definitions */ table.MsoNormalTable {mso-style-name:"Table Normal"\; mso-tstyle-rowband-size:0\; mso-tstyle-colband-size:0\; mso-style-noshow:yes\; mso-style-parent:""\; mso-padding-alt:0in 5.4pt 0in 5.4pt\; mso-para-margin:0in\; mso-para-margin-bottom:.0001pt\; mso-pagination:widow-orphan\; font-size:10.0pt\; font-family:"Times New Roman"\; mso-ansi-language:#0400\; mso-fareast-language:#0400\; mso-bidi-language:#0400\;}   Member   Committee Roundtable        Normal 0   false false false        MicrosoftInternetExplorer4       st1\\:*{behavior:url(#ieooui) }      /* Style Definitions */ table.MsoNormalTable {mso-style-name:"Table Normal"\; mso-tstyle-rowband-size:0\; mso-tstyle-colband-size:0\; mso-style-noshow:yes\; mso-style-parent:""\; mso-padding-alt:0in 5.4pt 0in 5.4pt\; mso-para-margin:0in\; mso-para-margin-bottom:.0001pt\; mso-pagination:widow-orphan\; font-size:10.0pt\; font-family:"Times New Roman"\; mso-ansi-language:#0400\; mso-fareast-language:#0400\; mso-bidi-language:#0400\;}    DATE:    Thursday\, April 8\, 2010               TIME:    3pm  \n \n  PLACE: Builders League of South  Jersey 114 Haddontowne   Court\, Cherry Hill\, NJ        COST:   Complimentary Registration For: BLSJ MEMBERS  BLSJ Exec. Committee\; Board of Directors\; Committee Chairs/Vice Chairs\;  New company contacts etc.     Moderator:                                                                                       ROBERT CAIN\, CGA Product Director - Mark Systems      Learn about BLSJ Committees from Committee Chairs first hand.        Interact with Committee Chairs to discuss how your skills and talents could be utilized best at BLSJ.   This is an excellent opportunity to increase your membership involvement.         Also\, you will get the opportunity to meet the League's officers\, board of directors\, committee chairs  and other new members & staff during our wine and cheese social following the event.   P.S. This is a fabulous NETWORKING FUNCTION Begin today to prepare for successful encounters\, build lasting\, mutually beneficial relationships and broaden your account base through the Builders Association!   This is a reception you don't want to miss!  Please RSVP by Wednesday\, April 7th
X-ALT-DESC;FMTTYPE=text/html:<p style="margin-left: 1in\; text-indent: -0.25in\; line-height: 150%\;" class="MsoListParagraphCxSpFirst"><span style="" /></p> <p> <meta content="text/html\; charset=utf-8" http-equiv="Content-Type" /> <meta content="Word.Document" name="ProgId" /> <meta content="Microsoft Word 11" name="Generator" /> <meta content="Microsoft Word 11" name="Originator" /> <link href="file:///C:\\DOCUME~1\\Marlene\\LOCALS~1\\Temp\\msohtml1\\01\\clip_filelist.xml" rel="File-List" /><!--[if gte mso 9]><xml> <w:WordDocument> <w:View>Normal</w:View> <w:Zoom>0</w:Zoom> <w:PunctuationKerning /> <w:ValidateAgainstSchemas /> <w:SaveIfXMLInvalid>false</w:SaveIfXMLInvalid> <w:IgnoreMixedContent>false</w:IgnoreMixedContent> <w:AlwaysShowPlaceholderText>false</w:AlwaysShowPlaceholderText> <w:Compatibility> <w:BreakWrappedTables /> <w:SnapToGridInCell /> <w:WrapTextWithPunct /> <w:UseAsianBreakRules /> <w:DontGrowAutofit /> </w:Compatibility> <w:BrowserLevel>MicrosoftInternetExplorer4</w:BrowserLevel> </w:WordDocument> </xml><![endif]--><!--[if gte mso 9]><xml> <w:LatentStyles DefLockedState="false" LatentStyleCount="156"> </w:LatentStyles> </xml><![endif]--><style type="text/css"> <!--  /* Style Definitions */  p.MsoNormal\, li.MsoNormal\, div.MsoNormal    {mso-style-parent:""\;    margin:0in\;    margin-bottom:.0001pt\;    mso-pagination:widow-orphan\;    font-size:12.0pt\;    mso-bidi-font-size:10.0pt\;    font-family:"Times New Roman"\;    mso-fareast-font-family:"Times New Roman"\;} @page Section1    {size:8.5in 11.0in\;    margin:1.0in 1.25in 1.0in 1.25in\;    mso-header-margin:.5in\;    mso-footer-margin:.5in\;    mso-paper-source:0\;} div.Section1    {page:Section1\;} --> </style><!--[if gte mso 10]> <style> /* Style Definitions */ table.MsoNormalTable {mso-style-name:"Table Normal"\; mso-tstyle-rowband-size:0\; mso-tstyle-colband-size:0\; mso-style-noshow:yes\; mso-style-parent:""\; mso-padding-alt:0in 5.4pt 0in 5.4pt\; mso-para-margin:0in\; mso-para-margin-bottom:.0001pt\; mso-pagination:widow-orphan\; font-size:10.0pt\; font-family:"Times New Roman"\; mso-ansi-language:#0400\; mso-fareast-language:#0400\; mso-bidi-language:#0400\;} </style> <![endif]--></p> <p align="center" style="text-align: center\;" class="MsoNormal"><b style=""><span style="font-size: 14pt\; font-family: Arial\;" /></b> <meta content="text/html\; charset=utf-8" http-equiv="Content-Type" /> <meta content="Word.Document" name="ProgId" /> <meta content="Microsoft Word 11" name="Generator" /> <meta content="Microsoft Word 11" name="Originator" /> <link href="file:///C:\\DOCUME~1\\Marlene\\LOCALS~1\\Temp\\msohtml1\\01\\clip_filelist.xml" rel="File-List" /><!--[if gte mso 9]><xml> <w:WordDocument> <w:View>Normal</w:View> <w:Zoom>0</w:Zoom> <w:PunctuationKerning /> <w:ValidateAgainstSchemas /> <w:SaveIfXMLInvalid>false</w:SaveIfXMLInvalid> <w:IgnoreMixedContent>false</w:IgnoreMixedContent> <w:AlwaysShowPlaceholderText>false</w:AlwaysShowPlaceholderText> <w:Compatibility> <w:BreakWrappedTables /> <w:SnapToGridInCell /> <w:WrapTextWithPunct /> <w:UseAsianBreakRules /> <w:DontGrowAutofit /> </w:Compatibility> <w:BrowserLevel>MicrosoftInternetExplorer4</w:BrowserLevel> </w:WordDocument> </xml><![endif]--><!--[if gte mso 9]><xml> <w:LatentStyles DefLockedState="false" LatentStyleCount="156"> </w:LatentStyles> </xml><![endif]--><style type="text/css"> <!--  /* Style Definitions */  p.MsoNormal\, li.MsoNormal\, div.MsoNormal    {mso-style-parent:""\;    margin:0in\;    margin-bottom:.0001pt\;    mso-pagination:widow-orphan\;    font-size:12.0pt\;    mso-bidi-font-size:10.0pt\;    font-family:"Times New Roman"\;    mso-fareast-font-family:"Times New Roman"\;} @page Section1    {size:8.5in 11.0in\;    margin:1.0in 1.25in 1.0in 1.25in\;    mso-header-margin:.5in\;    mso-footer-margin:.5in\;    mso-paper-source:0\;} div.Section1    {page:Section1\;} --> </style><!--[if gte mso 10]> <style> /* Style Definitions */ table.MsoNormalTable {mso-style-name:"Table Normal"\; mso-tstyle-rowband-size:0\; mso-tstyle-colband-size:0\; mso-style-noshow:yes\; mso-style-parent:""\; mso-padding-alt:0in 5.4pt 0in 5.4pt\; mso-para-margin:0in\; mso-para-margin-bottom:.0001pt\; mso-pagination:widow-orphan\; font-size:10.0pt\; font-family:"Times New Roman"\; mso-ansi-language:#0400\; mso-fareast-language:#0400\; mso-bidi-language:#0400\;} </style> <![endif]--> <p align="center" style="margin-left: 22.5pt\; text-align: center\; text-indent: -22.5pt\;" class="MsoNormal"><b style=""><span style="font-size: 19pt\; font-family: Arial\; color: red\;">Member &ndash\; Committee Roundtable</span></b></p> <p align="center" style="margin-left: 22.5pt\; text-align: center\; text-indent: -22.5pt\;" class="MsoNormal"> <meta content="text/html\; charset=utf-8" http-equiv="Content-Type" /> <meta content="Word.Document" name="ProgId" /> <meta content="Microsoft Word 11" name="Generator" /> <meta content="Microsoft Word 11" name="Originator" /> <link href="file:///C:\\DOCUME~1\\Marlene\\LOCALS~1\\Temp\\msohtml1\\01\\clip_filelist.xml" rel="File-List" /><o:smarttagtype downloadurl="http://www.5iamas-microsoft-com:office:smarttags" name="City" namespaceuri="urn:schemas-microsoft-com:office:smarttags"></o:smarttagtype><o:smarttagtype downloadurl="http://www.5iantlavalamp.com/" name="place" namespaceuri="urn:schemas-microsoft-com:office:smarttags"></o:smarttagtype><o:smarttagtype downloadurl="http://www.5iamas-microsoft-com:office:smarttags" name="State" namespaceuri="urn:schemas-microsoft-com:office:smarttags"></o:smarttagtype><o:smarttagtype downloadurl="http://www.5iamas-microsoft-com:office:smarttags" name="address" namespaceuri="urn:schemas-microsoft-com:office:smarttags"></o:smarttagtype><o:smarttagtype downloadurl="http://www.5iantlavalampft-com:office:smarttags" name="Street" namespaceuri="urn:schemas-microsoft-com:office:smarttags"></o:smarttagtype><!--[if gte mso 9]><xml> <w:WordDocument> <w:View>Normal</w:View> <w:Zoom>0</w:Zoom> <w:PunctuationKerning /> <w:ValidateAgainstSchemas /> <w:SaveIfXMLInvalid>false</w:SaveIfXMLInvalid> <w:IgnoreMixedContent>false</w:IgnoreMixedContent> <w:AlwaysShowPlaceholderText>false</w:AlwaysShowPlaceholderText> <w:Compatibility> <w:BreakWrappedTables /> <w:SnapToGridInCell /> <w:WrapTextWithPunct /> <w:UseAsianBreakRules /> <w:DontGrowAutofit /> </w:Compatibility> <w:BrowserLevel>MicrosoftInternetExplorer4</w:BrowserLevel> </w:WordDocument> </xml><![endif]--><!--[if gte mso 9]><xml> <w:LatentStyles DefLockedState="false" LatentStyleCount="156"> </w:LatentStyles> </xml><![endif]--><!--[if !mso]><object classid="clsid:38481807-CA0E-42D2-BF39-B33AF135CC4D" id=ieooui></object> <style> st1\\:*{behavior:url(#ieooui) } </style> <![endif]--><style type="text/css"> <!--  /* Style Definitions */  p.MsoNormal\, li.MsoNormal\, div.MsoNormal    {mso-style-parent:""\;    margin:0in\;    margin-bottom:.0001pt\;    mso-pagination:widow-orphan\;    font-size:12.0pt\;    mso-bidi-font-size:10.0pt\;    font-family:"Times New Roman"\;    mso-fareast-font-family:"Times New Roman"\;} @page Section1    {size:8.5in 11.0in\;    margin:1.0in 1.25in 1.0in 1.25in\;    mso-header-margin:.5in\;    mso-footer-margin:.5in\;    mso-paper-source:0\;} div.Section1    {page:Section1\;} --> </style><!--[if gte mso 10]> <style> /* Style Definitions */ table.MsoNormalTable {mso-style-name:"Table Normal"\; mso-tstyle-rowband-size:0\; mso-tstyle-colband-size:0\; mso-style-noshow:yes\; mso-style-parent:""\; mso-padding-alt:0in 5.4pt 0in 5.4pt\; mso-para-margin:0in\; mso-para-margin-bottom:.0001pt\; mso-pagination:widow-orphan\; font-size:10.0pt\; font-family:"Times New Roman"\; mso-ansi-language:#0400\; mso-fareast-language:#0400\; mso-bidi-language:#0400\;} </style> <![endif]--> <p style="" class="MsoNormal"><b style=""><span style="font-family: Arial\;" /></b></p> <p style="" class="MsoNormal"><b style=""><span style="font-family: Arial\;">DATE:</span></b><span style="font-family: Arial\;"><span style="">&nbsp\;&nbsp\;&nbsp\; </span>Thursday\, April 8\, 2010<span style="">&nbsp\;&nbsp\; </span><b style=""><span style="">&nbsp\;&nbsp\;&nbsp\;&nbsp\;&nbsp\;&nbsp\;&nbsp\;&nbsp\;&nbsp\;&nbsp\;&nbsp\; </span>TIME:</b><span style="">&nbsp\;&nbsp\;&nbsp\; </span>3pm <span style="">&nbsp\;</span><br style="" /> <!--[if !supportLineBreakNewLine]--><br style="" /> <!--[endif]--><o:p></o:p></span></p> <p style="" class="MsoNormal"><b style=""><span style="font-family: Arial\;">PLACE:</span></b><span style="font-family: Arial\;"> <b style="">Builders League of <st1:place w:st="on">South  Jersey</st1:place> 114 <st1:address w:st="on"><st1:street w:st="on">Haddontowne   Court</st1:street>\, <st1:city w:st="on">Cherry Hill</st1:city>\, <st1:state w:st="on">NJ</st1:state></st1:address><span style="">&nbsp\;&nbsp\;&nbsp\;&nbsp\;&nbsp\;&nbsp\; </span><o:p></o:p></b></span></p> <p style="" class="MsoNormal"><b style=""><span style="font-family: Arial\;">COST:</span></b><span style="font-family: Arial\;"><span style="">&nbsp\;&nbsp\; </span>Complimentary Registration For: <b style=""><i style=""><u>BLSJ MEMBERS</u></i></b> <o:p></o:p></span></p> <p style="" class="MsoNormal"><span style="font-family: Arial\;">BLSJ Exec. Committee\; Board of Directors\; Committee Chairs/Vice Chairs\; <o:p></o:p></span></p> <p style="" class="MsoNormal"><span style="font-family: Arial\;">New company contacts etc.<o:p></o:p></span></p> </p> </p> <p align="center" style="text-align: center\;" class="MsoNormal"><b style=""><span style="font-size: 14pt\; font-family: Arial\;" /></b></p> <p align="center" style="text-align: center\;" class="MsoNormal"><b style=""><span style="font-size: 14pt\; font-family: Arial\;" /></b></p> <p align="center" style="text-align: center\;" class="MsoNormal"><b style=""><span style="font-size: 14pt\; font-family: Arial\;">Moderator:</span></b><span style="font-family: Arial\;"><o:p></o:p></span></p> <p style="" class="MsoNormal"><span style="font-family: Arial\;"><span style="">&nbsp\;&nbsp\;&nbsp\;&nbsp\;&nbsp\;&nbsp\;&nbsp\;&nbsp\;&nbsp\;&nbsp\;&nbsp\;&nbsp\;&nbsp\;&nbsp\;&nbsp\;&nbsp\;&nbsp\;&nbsp\;&nbsp\;&nbsp\;&nbsp\;&nbsp\;&nbsp\;&nbsp\;&nbsp\;&nbsp\;&nbsp\;&nbsp\;&nbsp\;&nbsp\;&nbsp\;&nbsp\;&nbsp\;&nbsp\;&nbsp\;&nbsp\;&nbsp\;&nbsp\;&nbsp\;&nbsp\;&nbsp\;&nbsp\;&nbsp\;&nbsp\;&nbsp\;&nbsp\;&nbsp\;&nbsp\;&nbsp\;&nbsp\;&nbsp\;&nbsp\;&nbsp\;&nbsp\;&nbsp\;&nbsp\;&nbsp\;&nbsp\;&nbsp\;&nbsp\;&nbsp\;&nbsp\;&nbsp\;&nbsp\;&nbsp\;&nbsp\;&nbsp\;&nbsp\;&nbsp\;&nbsp\;&nbsp\;&nbsp\;&nbsp\;&nbsp\;&nbsp\;&nbsp\;&nbsp\;&nbsp\;&nbsp\;&nbsp\;&nbsp\;&nbsp\;&nbsp\;&nbsp\;&nbsp\; </span></span><b style=""><span style="font-size: 14pt\; font-family: Arial\;">ROBERT CAIN\, CGA</span></b><span style="font-family: Arial\;"><o:p></o:p></span></p> <p align="center" style="text-align: center\;" class="MsoNormal"><strong><span style="font-size: 10pt\; font-family: Arial\;">Product Director - Mark Systems</span></strong><span style="font-family: Arial\;"><o:p></o:p></span></p> <p align="center" style="text-align: center\;" class="MsoNormal"><span style="font-family: Arial\;"><o:p>&nbsp\;</o:p></span></p> <p align="center" style="text-align: center\;" class="MsoNormal"><span style="font-family: Arial\;"><span style="">&nbsp\;&nbsp\; </span>Learn about BLSJ Committees from Committee Chairs first hand.<o:p></o:p></span></p> <p align="center" style="text-align: center\;" class="MsoNormal"><span style="font-family: Arial\;"><o:p>&nbsp\;</o:p></span></p> <p align="center" style="text-align: center\;" class="MsoNormal"><span style="font-family: Arial\;"><span style="">&nbsp\;&nbsp\;&nbsp\;&nbsp\; </span>Interact with Committee Chairs to discuss how your skills and talents could be utilized best at BLSJ.<o:p></o:p></span></p> <p align="center" style="text-align: center\;" class="MsoNormal"><span style="font-family: Arial\;"><o:p>&nbsp\;</o:p></span></p> <p align="center" style="text-align: center\;" class="MsoNormal"><span style="font-family: Arial\;">This is an excellent opportunity to increase your membership involvement.<span style="background: none repeat scroll 0% 0% yellow\;"><o:p></o:p></span></span></p> <p align="center" style="text-align: center\;" class="MsoNormal"><span style="font-family: Arial\;"><o:p>&nbsp\;</o:p></span></p> <p align="center" style="text-align: center\;" class="MsoNormal"><span style="font-family: Arial\;"><span style="">&nbsp\;&nbsp\;&nbsp\;&nbsp\;&nbsp\; </span>Also\, you will get the opportunity to meet the League&rsquo\;s officers\, board of directors\, committee chairs <o:p></o:p></span></p> <p align="center" style="text-align: center\;" class="MsoNormal"><span style="font-family: Arial\;">and other new members &amp\; staff during our wine and cheese social following the event.<o:p></o:p></span></p> <p align="center" style="text-align: center\;" class="MsoNormal"><span style="font-family: Arial\;"><o:p>&nbsp\;</o:p></span></p> <p align="center" style="text-align: center\;" class="MsoNormal"><span style="font-family: Arial\;">P.S. This is a fabulous <i style="">NETWORKING FUNCTION</i><o:p></o:p></span></p> <p align="center" style="text-align: center\;" class="MsoNormal"><span style="font-family: Arial\;">Begin today to prepare for successful encounters\, build lasting\, mutually beneficial relationships<o:p></o:p></span></p> <p align="center" style="text-align: center\;" class="MsoNormal"><span style="font-family: Arial\;">and broaden your account base through the Builders Association!<o:p></o:p></span></p> <p align="center" style="text-align: center\;" class="MsoNormal"><span style="font-family: Arial\;"><o:p>&nbsp\;</o:p></span></p> <p align="center" style="text-align: center\;" class="MsoNormal"><b style=""><span style="font-family: Arial\;">This is a reception you don&rsquo\;t want to miss!</span></b></p> <p align="center" style="text-align: center\;" class="MsoNormal"><b style=""><span style="font-family: Arial\;" /></b></p> <p align="center" style="text-align: center\;" class="MsoNormal"><b style=""><span style="font-family: Arial\;">Please RSVP by Wednesday\, April 7th</span></b><span style="font-family: Arial\;"><o:p></o:p></span></p>
LOCATION:114 Haddontowne Court Cherry Hill\, NJ 08034
UID:e.9292.335
SEQUENCE:3
DTSTAMP:20260421T163833Z
URL:https://members.blsj.com/events/details/leadership-development-committee-membership-round-table-04-08-2010-335
END:VEVENT

END:VCALENDAR
