BEGIN:VCALENDAR
VERSION:2.0
PRODID:-//ChamberMaster//Event Calendar 2.0//EN
METHOD:PUBLISH
X-PUBLISHED-TTL:P3D
REFRESH-INTERVAL:P3D
CALSCALE:GREGORIAN
BEGIN:VEVENT
DTSTART:20091016T160000Z
DTEND:20091016T160000Z
X-MICROSOFT-CDO-ALLDAYEVENT:FALSE
SUMMARY:LEADERSHIP DEVELOPMENT COMMITTEE MEETING & NEW MEMBER ORIENTATION
DESCRIPTION:New Member Maximization & Orientation Breakfast Reception \n Moderator:\n Michael Kurpiel\, C.G.A.\, C.G.P.\n National Associate Chairman\, NAHB\n Market Development Manager\, ProBuild Get candid advice on maximizing your membership in the Builders Association & the Association's Networking opportunities. Learn about the issues that are facing our industry and state of New Jersey. Also\, you will get the opportunity to meet the League's officers\, board of directors\, committee chairs\, other new members & staff during our brief orientation. Find out how the Builders League operates and functions to serve the membership\, P.S. This is a fabulous NETWORKING FUNCTION Begin today to prepare for successful encounters\, build lasting\, mutually beneficial relationships\n and broaden your account base through the Builders Association! This is a reception you don't want to miss ___ I will attend Name: ________________________________________________________ Company: _______________________________________________________
X-ALT-DESC;FMTTYPE=text/html:<p><span style="color: #ff0000"><big><u><strong>New Member Maximization &amp\; Orientation</strong></u></big></span></p> <p><strong>Breakfast Reception</strong></p> <p><br /> <big><strong>Moderator:</strong></big><br /> <strong><big>Michael Kurpiel\, C.G.A.\, C.G.P.<br /> National Associate Chairman\, NAHB<br /> Market Development Manager\, ProBuild</big></strong></p> <p>Get candid advice on maximizing your membership in the Builders Association &amp\; the Association&rsquo\;s Networking opportunities.</p> <p>Learn about the issues that are facing our industry and state of New Jersey.</p> <p>Also\, you will get the opportunity to meet the League&rsquo\;s officers\, board of directors\, committee chairs\, other new members &amp\; staff during our brief orientation.</p> <p>Find out how the Builders League operates and functions to serve the membership\,</p> <p>P.S. This is a fabulous NETWORKING FUNCTION</p> <p>Begin today to prepare for successful encounters\, build lasting\, mutually beneficial relationships<br /> and broaden your account base through the Builders Association!</p> <p>This is a reception you don&rsquo\;t want to miss</p> <p>___ I will attend</p> <p>Name: ________________________________________________________</p> <p>Company: _______________________________________________________</p> <p>&nbsp\;</p> <p><br /> &nbsp\;</p>
LOCATION:114 Haddontowne Court Cherry Hill\, NJ 08034
UID:e.9292.333
SEQUENCE:3
DTSTAMP:20260422T011839Z
URL:https://members.blsj.com/events/details/leadership-development-committee-meeting-new-member-orientation-10-16-2009-333
END:VEVENT

END:VCALENDAR
