BEGIN:VCALENDAR
VERSION:2.0
PRODID:-//ChamberMaster//Event Calendar 2.0//EN
METHOD:PUBLISH
X-PUBLISHED-TTL:P3D
REFRESH-INTERVAL:P3D
CALSCALE:GREGORIAN
BEGIN:VEVENT
DTSTART:20091218T170000Z
DTEND:20091218T230000Z
X-MICROSOFT-CDO-ALLDAYEVENT:FALSE
SUMMARY:Leadership Development Committee Meeting - 12/18/2009
DESCRIPTION:FROM: Bob Cain\, Chairman\n SUBJECT: Leadership Development Comittee\n DATE: Friday December 18\, 2009\n TIME: 9am\n PLACE: League Office Conference Line Number for those who would like to participate remotely:\n Phone: (605) 715-4970\n Code: 926967# \n Agenda: 1. Conflict of Interest Statement\n 2. Mission Statement\n 3. Recap of 2009 seminars pros and cons\n 4. Establishing a round table of Committee Chairs for committee recruitment 1st quarter 2010\n 5. Establishing a builder forum\n a. Discussion of our unique talents and how we can use them to help builders at BLSJ\n i. Builders Members- Discuss what issues would be helpful\n ii. Associate Members- Discussion of each of our talents and how we can help\n iii. Invite builders and associates to a Builder round table to discuss answers\n 6. Suggestions for 2010 speakers\n 7. Other BLSJ/Committee news\n 8. New/Old Business\n 9. Meeting Adjourned
X-ALT-DESC;FMTTYPE=text/html:<p>FROM: Bob Cain\, Chairman<br /> SUBJECT: Leadership Development Comittee<br /> DATE: Friday December 18\, 2009<br /> TIME: 9am<br /> PLACE: League Office</p> <p>Conference Line Number for those who would like to participate remotely:<br /> Phone: (605) 715-4970<br /> Code: 926967#</p> <p><br /> Agenda:</p> <p>1. Conflict of Interest Statement<br /> 2. Mission Statement<br /> 3. Recap of 2009 seminars pros and cons<br /> 4. Establishing a round table of Committee Chairs for committee recruitment 1st quarter 2010<br /> 5. Establishing a builder forum<br /> a. Discussion of our unique talents and how we can use them to help builders at BLSJ<br /> i. Builders Members- Discuss what issues would be helpful<br /> ii. Associate Members- Discussion of each of our talents and how we can help<br /> iii. Invite builders and associates to a Builder round table to discuss answers<br /> 6. Suggestions for 2010 speakers<br /> 7. Other BLSJ/Committee news<br /> 8. New/Old Business<br /> 9. Meeting Adjourned</p>
LOCATION:114 Haddontowne Court Cherry Hill\, NJ 08034
UID:e.9292.1214
SEQUENCE:3
DTSTAMP:20260421T223254Z
URL:https://members.blsj.com/events/details/leadership-development-committee-meeting-12-18-2009-12-18-2009-1214
END:VEVENT

END:VCALENDAR
